BEGIN:VCALENDAR
VERSION:2.0
PRODID:-//Genatur - ECPv6.10.0//NONSGML v1.0//EN
CALSCALE:GREGORIAN
METHOD:PUBLISH
X-WR-CALNAME:Genatur
X-ORIGINAL-URL:https://genatur.com
X-WR-CALDESC:Eventos para Genatur
REFRESH-INTERVAL;VALUE=DURATION:PT1H
X-Robots-Tag:noindex
X-PUBLISHED-TTL:PT1H
BEGIN:VTIMEZONE
TZID:Europe/Madrid
BEGIN:DAYLIGHT
TZOFFSETFROM:+0100
TZOFFSETTO:+0200
TZNAME:CEST
DTSTART:20240331T010000
END:DAYLIGHT
BEGIN:STANDARD
TZOFFSETFROM:+0200
TZOFFSETTO:+0100
TZNAME:CET
DTSTART:20241027T010000
END:STANDARD
END:VTIMEZONE
BEGIN:VEVENT
DTSTART;TZID=Europe/Madrid:20240407T190000
DTEND;TZID=Europe/Madrid:20240407T223000
DTSTAMP:20260421T153232
CREATED:20240402T060724Z
LAST-MODIFIED:20240402T060724Z
UID:2559-1712516400-1712529000@genatur.com
SUMMARY:Sendero Pinar del Hierro\, Punto Mágico y Cerro de la Espartosa
DESCRIPTION:Conoceremos la reserva forestal del Pinar del Hierro\, que por su gran biodiversidad\, es uno de los pinares andaluces más importantes y amenazados\, ya que alberga una abundante variedad de especies de fauna y vegetación\, algunas de ellas catalogadas en peligro de extinción. Durante el camino nos encontraremos con «las caleras»\, que son unos hornos donde antaño se fabricaba la cal. Subiremos al Cerro de la Espartosa y llegaremos al mirador\, conocido como «El Punto Mágico» y observaremos la inmensidad de entorno. \nLocalización: Chiclana de la frontera.\nHorario de la actividad: 10:00 a 13:30\nRecorrido: 6 km circular\nDificultad: Baja\, con alguna pendiente\nPrecio: 12 € y menores de 12 años 5 € \nQUE INCLUYE:\n– Guía profesional de naturaleza\n– Gestión del permiso\n– Seguro de r. civil y accidentes \nQUE NO INCLUYE:\n– Desplazamiento hasta el punto de encuentro.\n– Avituallamiento \nInscripciones en Genatur:\n676987031\ninfo@genatur.com\n www.genatur.com
URL:https://genatur.com/eventos/sendero-pinar-del-hierro-punto-magico-y-cerro-de-la-espartosa/
CATEGORIES:Senderismo y naturaleza
ATTACH;FMTTYPE=image/jpeg:https://genatur.com/wp-content/uploads/2024/04/Pinar-Hierro.jpg
END:VEVENT
BEGIN:VEVENT
DTSTART;TZID=Europe/Madrid:20240414T100000
DTEND;TZID=Europe/Madrid:20240414T133000
DTSTAMP:20260421T153232
CREATED:20240322T092103Z
LAST-MODIFIED:20240401T091948Z
UID:2537-1713088800-1713101400@genatur.com
SUMMARY:Laguna de Medina
DESCRIPTION:Realizaremos el sendero que bordea la Laguna de Medina\, enclave de reconocida importancia internacional para la avifauna acuática. Tiene un papel protagonista como centro de invernada\, reproducción y descanso migratorio de muchas aves acuáticas\, resultando particularmente importante como refugio de concentración postreproductora de aves que han criado en humedales cercanos\, como es el Parque Nacional de Doñana. Disfrutaremos de una gran biodiversidad en cuanto a vegetación\, acebuchales y lentiscales\, además de otras especies como Coscoja y Palmito\, tambien observaremos vegetación del humedal\, como grandes tarajales. \nLocalización: a 8 km de Jerez de la Fra.\nHorario de la actividad: 10:00 a 13:30\nDificultad: Baja\nPrecio: 12 € y menores de 12 años 5 € \nQUE INCLUYE:\n– Guía profesional de naturaleza\n– Gestión del permiso\n– Seguro de r. civil y accidentes \nQUE NO INCLUYE:\n– Desplazamiento hasta el punto de encuentro.\n– Avituallamiento \nInscripciones en Genatur:\n676987031\ninfo@genatur.com\n www.genatur.com \n   \n 
URL:https://genatur.com/eventos/laguna-de-medina/
CATEGORIES:Senderismo y naturaleza
ATTACH;FMTTYPE=image/jpeg:https://genatur.com/wp-content/uploads/2024/03/csm_aves__12__b8b09d4953.jpg
END:VEVENT
BEGIN:VEVENT
DTSTART;TZID=Europe/Madrid:20240420T103000
DTEND;TZID=Europe/Madrid:20240420T170000
DTSTAMP:20260421T153232
CREATED:20240416T074354Z
LAST-MODIFIED:20240416T125523Z
UID:2565-1713609000-1713632400@genatur.com
SUMMARY:Montes Propios - Cerro del Charco y Brañahonda
DESCRIPTION:Recorrido circular\, nos vamos a encontrar tramos expuestos a los distintos puntos cardinales. Esto hace que nos encontremos con exposiciones de umbría y de solana. Las umbrías se caracterizan por una vegetación profunda en especies adaptadas y reservadas de los vientos secos y las altas temperaturas del estío\, com el Quejigo. Todo lo contrario a las orientadas a la solana\, con un matorral alto que crece a merced de los fuertes vientos de levante y altas temperaturas\, como es el caso del alcornoque. \nEncontraremos varios puntos panorámicos donde recrearse en las bonitas vistas que se extienden en el horizonte. Pueden ser observadas muchas de las sierras que forman los Alcornocales y el Parque Natural Sierra de Grazalema\, que marca el límite en términos geológicos de las Sierras del Aljibe con las agrestes montañas calizas de la Serranía. \nEstas sierras son el hábitat de numerosas aves que encuentran refugio y comida en ellas. Así podremos ver con facilidad al omnipresente buitre leonado. La culebrera europea\, que visita estos montes en la época estival. El busardo ratonero\, presente todo el año\, es otra rapaz diurna que también puede ser observada. \nLocalización:Montes Propios de Jerez de la Frontera\nHorario de la actividad: 10:30 a 17:00\nDificultad: Medio – 8\,9 km\nPrecio: 15€ y menores de 12 años 10€ \nQUE INCLUYE:\n– Guía profesional de naturaleza\n– Gestión del permiso\n– Seguro de r. civil y accidentes \nQUE NO INCLUYE:\n– Desplazamiento hasta el punto de encuentro.\n– Avituallamiento \nInscripciones en Genatur:\n676987031\ninfo@genatur.com\n www.genatur.com
URL:https://genatur.com/eventos/montes-propios-cerro-del-charco-y-branahonda/
CATEGORIES:Senderismo y naturaleza
ATTACH;FMTTYPE=image/jpeg:https://genatur.com/wp-content/uploads/2024/04/76-1.jpg
END:VEVENT
BEGIN:VEVENT
DTSTART;TZID=Europe/Madrid:20240427T103000
DTEND;TZID=Europe/Madrid:20240427T133000
DTSTAMP:20260421T153232
CREATED:20230209T153751Z
LAST-MODIFIED:20240401T092317Z
UID:902-1714213800-1714224600@genatur.com
SUMMARY:Visita guiada a la Isla de las Palomas - Tarifa
DESCRIPTION:VISITA ISLA DE LAS PALOMAS – TARIFA \nImportante: Es necesario enviar hasta el miércoles antes de la visita\, el nombre completo de los participantes y nº DNI y llamar a Genatur 676987031 para la inscripción. \nNos acompañará una guía historiadora explicando todo el recorrido y se conocerá la Dársena\, la antigua Torre Almenara reconvertida en Faro\, las Casamatas\, la Zona Militar\, la Necrópolis\, los Aljibes\, el Polvorín\, etc.\nLa Isla de Las Palomas en Tarifa se ubica en el Estrecho de Gibraltar\, en la confluencia del Mar Mediterráneo y el Océano Atlántico. Observaremos desde aquí la costa africana y conoceréis la importancia que ha tenido “La Isla” en diferentes épocas y culturas desde la Tartessica\, Fenicia y Árabe hasta la actualidad. \nFecha: 16 de Abril de 2023\nHorario de la actividad: 10:30 a 13:30\nRecorrido: A pie y dificultad baja (llevar calzado cómodo)\nPrecio: 12 €\nPunto de encuentro: enviaremos enlace de la ubicación \nQUE INCLUYE:\n-Guía Historiadora\n-Gestión de los permisos\n-Seguro de r. civil y accidentes \nQUE NO INCLUYE:\n-Desplazamiento hasta el punto de encuentro \nInscripciones en Genatur:\n676987031\ninfo@genatur.com\n www.genatur.com
URL:https://genatur.com/eventos/visita-guiada-a-la-isla-de-las-palomas-tarifa/
CATEGORIES:Cultura: Arqueología e Historia,Rutas culturales
ATTACH;FMTTYPE=image/jpeg:https://genatur.com/wp-content/uploads/2023/02/isla-tarifa.jpg
END:VEVENT
END:VCALENDAR