BEGIN:VCALENDAR
VERSION:2.0
PRODID:-//Genatur - ECPv6.10.0//NONSGML v1.0//EN
CALSCALE:GREGORIAN
METHOD:PUBLISH
X-WR-CALNAME:Genatur
X-ORIGINAL-URL:https://genatur.com
X-WR-CALDESC:Eventos para Genatur
REFRESH-INTERVAL;VALUE=DURATION:PT1H
X-Robots-Tag:noindex
X-PUBLISHED-TTL:PT1H
BEGIN:VTIMEZONE
TZID:Europe/Madrid
BEGIN:DAYLIGHT
TZOFFSETFROM:+0100
TZOFFSETTO:+0200
TZNAME:CEST
DTSTART:20240331T010000
END:DAYLIGHT
BEGIN:STANDARD
TZOFFSETFROM:+0200
TZOFFSETTO:+0100
TZNAME:CET
DTSTART:20241027T010000
END:STANDARD
END:VTIMEZONE
BEGIN:VEVENT
DTSTART;TZID=Europe/Madrid:20240309T090000
DTEND;TZID=Europe/Madrid:20240309T170000
DTSTAMP:20260424T231201
CREATED:20240227T093843Z
LAST-MODIFIED:20240227T093843Z
UID:2500-1709974800-1710003600@genatur.com
SUMMARY:El Torrecilla - Quejigales
DESCRIPTION:EL TORRECILLA – QUEJIGALES (SIERRA DE LAS NIEVES) \nEl atractivo de este itinerario viene dado\, entre otras muchas razones\, por la presencia de singulares especies botánicas como los pinsapos o los quejigos de montaña. Asimismo\, son llamativas las numerosas manifestaciones del modelado kárstico de esta sierra\, entre las que tienen especial protagonismo los elementos de interés espeleológico\, sobre todo las importantes simas\, o cavidades rocosas de desarrollo vertical\, existentes. De interés antropológico\, sobresalen diferentes construcciones rurales\, entre las cuales destacan los pozos de la nieve. Relieve escabroso y quebrado modelado sobre la roca caliza\, con muestras de una sucesión de formaciones vegetales en las que destacan los centenarios pinsapares y quejigales de montaña. Elementos del patrimonio etnográfico (pozo de nieve). Interés espeleológico. Vistas panorámicas de excepcional amplitud. \nLocalización: Ronda (Málaga)\nHorario de la actividad: 9:00 a 17:00\nRecorrido: 14 km ida y vuelta – Dificultad: Alta\nPrecio: 15€ \nQUE INCLUYE:\n– Guía profesional de naturaleza\n– Seguro de r. civil y accidentes \nQUE NO INCLUYE:\n– Desplazamiento hasta el punto de encuentro\n– Avituallamiento \nIMPORTANTE:\n– Esta ruta cnlleva una buena forma física\, ya que es de dificultad alta por el terreno pedregoso y ser un perfil de subida constante.\n– Es necesario calzado cómodo y domado \nInscripciones en Genatur:\n676987031\ninfo@genatur.com\n www.genatur.com \n 
URL:https://genatur.com/eventos/el-torrecilla-quejigales/
CATEGORIES:Senderismo y naturaleza
ATTACH;FMTTYPE=image/jpeg:https://genatur.com/wp-content/uploads/2024/02/torrecilla-cumbre2.jpg
END:VEVENT
BEGIN:VEVENT
DTSTART;TZID=Europe/Madrid:20240316T100000
DTEND;TZID=Europe/Madrid:20240316T133000
DTSTAMP:20260424T231201
CREATED:20240102T081103Z
LAST-MODIFIED:20240227T105141Z
UID:2342-1710583200-1710595800@genatur.com
SUMMARY:El Palancar  y embalse Charco Redondo
DESCRIPTION:El comienzo de este sendero conduce a un quejigal donde se encuentran antiguas viviendas restauradas de los habitantes del lugar\, conocidas como moriscos. La humedad en algunos tramos del recorrido se siente presente\, hasta las piedras están recubiertas de helechos y enredaderas. Desde este mirador natural\, tenemos estupendas panorámicas del Embalse de Charco Redondo y la Sierra de Montecoche. El recorrido pasa junto a una tumba antropomorfa y una fuente de aguas ferruginosas que\, según la creencia popular\, quitaba la anemia. El sendero asciende hasta un pinar de repoblación donde se encuentra instalado un cerramiento de borricos\, animales considerados fundamentales para la supervivencia en el monte hasta hace sólo unos años. El rico matorral mediterráneo acompaña hasta unas casas cueva\, habitadas hasta principios de los 70. Regresamos de nuevo a la pista forestal\, para descender hasta tocar la orilla del embalse\, donde en función del nivel del agua\, se podrá ver una curiosa piedra que recuerda el cráneo semienterrado de un gigante dinosaurio. La vuelta se realiza por un sendero paralelo a la orilla\, entre quejigos y alcornoques. Es una ruta ideal para hacerla en familia. \nLocalización: Parque Natural Los Alcornocales\nHorario de la actividad: 10:00 a 13:30\nDificultad: Baja\nPrecio: 12 € y menores de 12 años 5 € \nQUE INCLUYE:\n– Guía especializado en naturaleza\n– Seguro de r. civil y accidentes \nQUE NO INCLUYE:\n– Desplazamiento hasta el punto de encuentro.\n– Avituallamiento \nInscripciones en Genatur:\n676987031\ninfo@genatur.com\n www.genatur.com \n 
URL:https://genatur.com/eventos/el-palancar/
CATEGORIES:Senderismo y naturaleza
ATTACH;FMTTYPE=image/jpeg:https://genatur.com/wp-content/uploads/2024/01/planacar-2.jpg
END:VEVENT
BEGIN:VEVENT
DTSTART;TZID=Europe/Madrid:20240317T100000
DTEND;TZID=Europe/Madrid:20240317T133000
DTSTAMP:20260424T231201
CREATED:20240312T105435Z
LAST-MODIFIED:20240312T105435Z
UID:2520-1710669600-1710682200@genatur.com
SUMMARY:Oppidum La Silla del Papa
DESCRIPTION:El Parque Natural del Estrecho y el Parque Natural de Los Alcornocales es un lugar estratégico de asentamientos humanos durante toda la historia de la humanidad. Esta actividad consiste en visitar los vestigios que se conservan del oppidum turdetano conocido como La silla del Papa\, un asentamiento fortificado situado en la parte superior de una colina y que cronológicamente se encuadra en el primer milenio antes de Cristo. El recorrido circular se realizará entre un bosque de alcornoques y un pinar de repoblación\, pasando por debajo de la colonia de buitres más numerosa de la provincia de Cádiz hasta alcanzar el lugar más elevado de la Sierra de la Plata (458 mts.). \nLocalización: Parque Natural del Estrecho u Parque Natural de Los Alcornocales\nHorario de la actividad: 10:00 a 13:30\nDificultad: Media Baja – 7 km\nPrecio: 12 € y menores de 12 años 5 € \nQUE INCLUYE:\n– Guía especializado en naturaleza\n– Seguro de r. civil y accidentes \nQUE NO INCLUYE:\n– Desplazamiento hasta el punto de encuentro.\n– Avituallamiento \nInscripciones en Genatur:\n676987031\ninfo@genatur.com\n www.genatur.com \n   \n 
URL:https://genatur.com/eventos/oppidum-la-silla-del-papa/
CATEGORIES:Rutas culturales,Senderismo y naturaleza
ATTACH;FMTTYPE=image/jpeg:https://genatur.com/wp-content/uploads/2024/03/silla-del-papa-1.jpeg
END:VEVENT
BEGIN:VEVENT
DTSTART;TZID=Europe/Madrid:20240323T100000
DTEND;TZID=Europe/Madrid:20240323T170000
DTSTAMP:20260424T231201
CREATED:20240318T124542Z
LAST-MODIFIED:20240318T124542Z
UID:2527-1711188000-1711213200@genatur.com
SUMMARY:Tunel de Coargazal y Arco Gótico
DESCRIPTION:La excursión empieza en el Puerto del Boyar\, y discurre por la Sierra del Endrinal\, en pleno corazón del Parque Natural de la Sierra de Grazalema. Se trata de un recorrido lineal que se introduce en el hermoso enclave calizo del Sistema Bético en la provincia de Cádiz. El recorrido y entorno por el que caminamos resulta muy gratificante\, no solo por las vistas que vamos contemplando\, sino por las curiosas formaciones rocosas que nos encontramos\, junto a rincones mágicos que encierran un verdadero encanto. Lugares llenos de lapiaces e imaginamos como sería el lugar hace cientos de millones de años cuando eran los fondos calizos del Mar de Tetis y como se elevaron con el choque de las placas tectónicas europea y africana. El mejor momento de nuestra excursión es la llegada al Arco Gótico\, una formación caliza de gran belleza\, fisurada\, formando un puzzle cerrando el arco. La belleza de esta formación natural\, ajena a cualquier construcción humana es increíble. Tal vez en ella se inspiró el ser humano para crear el arco de medio punto árabe que revolucionaria la arquitectura cristiana creando el estilo arquitectónico gótico. \nLocalización: Parque Natural de la Sierra de Grazalema\nHorario de la actividad: 10:00 a 17:00\nDificultad: Media Alta – 7 km\nPrecio: 15€ y menores de 12 años 9€ \nQUE INCLUYE:\n– Guía especializado en naturaleza\n– Seguro de r. civil y accidentes \nQUE NO INCLUYE:\n– Desplazamiento hasta el punto de encuentro.\n– Avituallamiento \nInscripciones en Genatur:\n676987031\ninfo@genatur.com\n www.genatur.com \n   \n 
URL:https://genatur.com/eventos/tunel-de-coargazal-y-arco-gotico/
CATEGORIES:Rutas culturales,Senderismo y naturaleza
ATTACH;FMTTYPE=image/jpeg:https://genatur.com/wp-content/uploads/2024/03/arco-gotico-300x200-1.jpg
END:VEVENT
BEGIN:VEVENT
DTSTART;TZID=Europe/Madrid:20240329T100000
DTEND;TZID=Europe/Madrid:20240329T170000
DTSTAMP:20260424T231201
CREATED:20230202T100620Z
LAST-MODIFIED:20240322T093306Z
UID:468-1711706400-1711731600@genatur.com
SUMMARY:Simancón y El Reloj
DESCRIPTION:La Sierra de Grazalema\, situada en el extremo más occidental de la cordillera Subbética\, y en la que predomina la formación caliza\, está compuesta por un conjunto de pequeñas subsierras. En concreto\, la ruta que os proponemos se sitúa en la Sierra del Endrinal\, denominada así por la predominancia de Endrinos\, y cuyo fruto es el ingrediente principal del licor de endrinas o pacharán. Este sendero\, en continuo ascenso hacia sus dos picos El Simancón (1.561 m) y El Reloj (1.535 m). El sendero comienza en el camping que da entrada a Grazalema\, se accede por una vereda ascendente que conduce hasta los Llanos del Endrinal. Estos llanos se cruzan y se comienza otro ascenso\, hasta llegar a la zona rocosa que marca el último tramo de la ruta\, y en la que se hará necesaria la ayuda de las manos para llegar a la cima. Durante el recorrido se puede observar la escasa vegetación\, en la que prima el pino y la cabra montesa que destaca de entre las zonas rocosas. Una vez alcanzada la cima del Simancón se puede disfrutar de unas espectaculares vistas\, pudiendo divisar el pico más alto de la provincia\, El Torreón (1.654 m). Tras una parada\, se asciende rodeando y atravesando el valle que separa El Simancón y El Reloj. \nLocalización: Grazalema\nHorario de la actividad: 10:00 a 17:00\nRecorrido: 10 km ida y vuelta\nDificultad: media alta\nPrecio: 15€ y menores de 12 años 9€ \nQUE INCLUYE:\n– Guía profesional de naturaleza\n– Gestión del permiso\n– Seguro de r. civil y accidentes \nQUE NO INCLUYE:\n– Avituallamiento\n– Desplazamiento hasta el punto de encuentro. \nIMPORTANTE:\n– Esta ruta cnlleva una buena forma física\, ya que es de dificultad alta por el terreno pedregoso y ser un perfil de subida constante.\n– Es necesario calzado cómodo y domado \nInscripciones en Genatur:\n676987031\ninfo@genatur.com\n www.genatur.com
URL:https://genatur.com/eventos/simancon-el-reloj/
CATEGORIES:Senderismo y naturaleza
ATTACH;FMTTYPE=image/jpeg:https://genatur.com/wp-content/uploads/2023/02/reloj-simancon.jpg
END:VEVENT
END:VCALENDAR