BEGIN:VCALENDAR
VERSION:2.0
PRODID:-//Genatur - ECPv6.10.0//NONSGML v1.0//EN
CALSCALE:GREGORIAN
METHOD:PUBLISH
X-ORIGINAL-URL:https://genatur.com
X-WR-CALDESC:Eventos para Genatur
REFRESH-INTERVAL;VALUE=DURATION:PT1H
X-Robots-Tag:noindex
X-PUBLISHED-TTL:PT1H
BEGIN:VTIMEZONE
TZID:Europe/Madrid
BEGIN:DAYLIGHT
TZOFFSETFROM:+0100
TZOFFSETTO:+0200
TZNAME:CEST
DTSTART:20250330T010000
END:DAYLIGHT
BEGIN:STANDARD
TZOFFSETFROM:+0200
TZOFFSETTO:+0100
TZNAME:CET
DTSTART:20251026T010000
END:STANDARD
END:VTIMEZONE
BEGIN:VEVENT
DTSTART;TZID=Europe/Madrid:20250713T100000
DTEND;TZID=Europe/Madrid:20250713T133000
DTSTAMP:20260425T040522
CREATED:20250701T102838Z
LAST-MODIFIED:20250701T103015Z
UID:3403-1752400800-1752413400@genatur.com
SUMMARY:Camino de los Charcones
DESCRIPTION:ATENCIÓN: PLAZAS NO DISPONIBLES POR WEB. PARA RESERVAR\, LLAMAR O ESCRIBIR AL 676987031 \nDescubre el Camino de los Charcones\, una ruta breve pero llena de magia en el corazón de la Sierra de Grazalema.Cruzando un pintoresco puente de madera sobre el río Guadalete\, comenzarás un agradable paseo. El sendero recorre una antigua vía ganadera junto al nacimiento del río Guadalete\, y durante el recorrido cruzarás hasta tres puentes de madera\, lo que lo hace especialmente divertido para los más pequeños . A mitad de camino\, encontrarás mesas de picnic de piedra y una antigua calera donde descansar y disfrutar del entorno.La ruta finaliza en el Puerto del Boyar\, a más de mil metros de altitud\, donde te espera un mirador espectacular: contemplarás la Sierra de las Cumbres y\, en días claros\, podrás divisar incluso la Bahía de Cádiz.  \nLocalización: Grazalema\nHorario de la actividad: 10:00 a 13:30\nRecorrido: 4 km ida y vuelta – Dificultad: Baja\nPrecio: 12 € y menores de 12 años 5 € \nQUE INCLUYE:QUE INCLUYE:\n– Guía profesional de naturaleza\n– Gestión del permiso\n– Seguro de r. civil y accidentes \nQUE NO INCLUYE:\n– Desplazamiento hasta el punto de encuentro\n– Avituallamiento \nInscripciones e información en Genatur:\n📱676987031\n✉️info@genatur.com\n💻 www.genatur.com
URL:https://genatur.com/eventos/camino-de-los-charcones/
CATEGORIES:Senderismo y naturaleza
ATTACH;FMTTYPE=image/jpeg:https://genatur.com/wp-content/uploads/2025/07/96815730.700x525.jpg
END:VEVENT
BEGIN:VEVENT
DTSTART;TZID=Europe/Madrid:20250713T213000
DTEND;TZID=Europe/Madrid:20250713T233000
DTSTAMP:20260425T040522
CREATED:20250624T083824Z
LAST-MODIFIED:20250624T091716Z
UID:3382-1752442200-1752449400@genatur.com
SUMMARY:Taller de Estrellas en la Campiña Jerezana - Grupo Astronómico Portuense
DESCRIPTION:TALLER DE ESTRELLAS EN LA CAMPIÑA JEREZANA \n¡Te invitamos a vivir una noche mágica bajo el cielo estrellado con el Grupo Astronómico Portuense! En esta sesión especial de 2 horas\, exploraremos el universo con la ayuda del telescopio Newton 300mm\, una potente herramienta que nos permitirá observar con gran detalle el cielo nocturno. Durante el taller\, nos enfocaremos en\, Marte y la Luna como protagonistas principales de la noche\, técnicas de orientación por las estrellas\, aprendiendo a reconocer constelaciones y ubicar puntos cardinales sin necesidad de brújula\, observación de nebulosas y otros cuerpos celestes visibles en la temporada\, material especial sobre nuestro cielo\, para aprender de forma práctica y visual sobre lo que veremos esa noche\, y explicaciones accesibles para todos los niveles\, ideal para quienes se inician en la astronomía o desean profundizar en el conocimiento del cosmos. Una experiencia educativa y emocionante\, perfecta para disfrutar en familia o con amigos\, aprendiendo a mirar el cielo con nuevos ojos. \nLocalización: a 8 km de Jerez de la Fra.\nHorario de la actividad: 21:30 a 23:30\nDificultad: Baja\nPrecio: 12 € y menores de 12 años 5 €\nLlevar: llevar esterilla o silla de playa para sentarte cómodamente bajo las estrellas\, zapatillas deportivas\, ya que el terreno puede ser irregular\, cena ligera y bebida para disfrutar durante la actividad\, repelente de mosquitos y linterna y ropa de mangas largas y algo de abrigo\, ya que por la noche puede refrescar. \nQUE INCLUYE:\n– Guía y material para el taller de estrellas\n– Gestión del permiso\n– Seguro de r. civil y accidentes \nQUE NO INCLUYE:\n– Desplazamiento hasta el punto de encuentro.\n– Avituallamiento \nInscripciones en Genatur:\n676987031\ninfo@genatur.com\n www.genatur.com
URL:https://genatur.com/eventos/taller-de-estrellas-en-la-campina-jerezana/
CATEGORIES:Astronomía,Senderismo y naturaleza
ATTACH;FMTTYPE=image/jpeg:https://genatur.com/wp-content/uploads/2023/06/taller-estrellasx.jpeg
END:VEVENT
END:VCALENDAR