BEGIN:VCALENDAR
VERSION:2.0
PRODID:-//Genatur - ECPv6.10.0//NONSGML v1.0//EN
CALSCALE:GREGORIAN
METHOD:PUBLISH
X-ORIGINAL-URL:https://genatur.com
X-WR-CALDESC:Eventos para Genatur
REFRESH-INTERVAL;VALUE=DURATION:PT1H
X-Robots-Tag:noindex
X-PUBLISHED-TTL:PT1H
BEGIN:VTIMEZONE
TZID:Europe/Madrid
BEGIN:DAYLIGHT
TZOFFSETFROM:+0100
TZOFFSETTO:+0200
TZNAME:CEST
DTSTART:20250330T010000
END:DAYLIGHT
BEGIN:STANDARD
TZOFFSETFROM:+0200
TZOFFSETTO:+0100
TZNAME:CET
DTSTART:20251026T010000
END:STANDARD
END:VTIMEZONE
BEGIN:VEVENT
DTSTART;TZID=Europe/Madrid:20250601T100000
DTEND;TZID=Europe/Madrid:20250601T133000
DTSTAMP:20260425T175208
CREATED:20250312T111049Z
LAST-MODIFIED:20250502T084920Z
UID:3185-1748772000-1748784600@genatur.com
SUMMARY:Arroyo del Descansadero y Tesorillo
DESCRIPTION:ATENCIÓN: PLAZAS NO DISPONIBLES POR WEB. PARA RESERVAR\, LLAMAR O ESCRIBIR AL 676987031 \nDesde la magnífica área recreativa Los Llanos del Campo\, parten varios senderos que nos permiten realizar cortos paseos por esta zona del parque natural. Los Senderos Arroyo del Descansadero y el del Tesorillo nos llevan a bellos y tranquilos rincones donde disfrutar del contacto con la naturaleza. Andaremos por caminos antiguamente transitados por los habitantes de la sierra. Entre ellos\, los carboneros\, que supieron aprovechar los recursos en una época en la que el carbón era una energía necesaria en todos los hogares y que no impidió que hoy el bosque siga permitiéndonos disfrutar de sus excelencias. \nLocalización: PN Sierra de Grazalema\nHorario de la actividad: 10:00 a 13:30\nRecorrido: 8 km circular\nDificultad: media\nPrecio: 10€ y menores de 12 años 6€ \nQUE INCLUYE:\n– Guía profesional de naturaleza\n– Gestión del permiso\n– Seguro de r. civil y accidentes \nQUE NO INCLUYE:\n– Avituallamiento\n– Desplazamiento hasta el punto de encuentro. \nInscripciones en Genatur:\n676987031\ninfo@genatur.com\n www.genatur.com
URL:https://genatur.com/eventos/arroyo-del-descansadero-y-tesorillo/
CATEGORIES:Senderismo y naturaleza
ATTACH;FMTTYPE=image/jpeg:https://genatur.com/wp-content/uploads/2025/03/78768705.400x300.jpg
END:VEVENT
END:VCALENDAR