BEGIN:VCALENDAR
VERSION:2.0
PRODID:-//Genatur - ECPv6.10.0//NONSGML v1.0//EN
CALSCALE:GREGORIAN
METHOD:PUBLISH
X-WR-CALNAME:Genatur
X-ORIGINAL-URL:https://genatur.com
X-WR-CALDESC:Eventos para Genatur
REFRESH-INTERVAL;VALUE=DURATION:PT1H
X-Robots-Tag:noindex
X-PUBLISHED-TTL:PT1H
BEGIN:VTIMEZONE
TZID:Europe/Madrid
BEGIN:DAYLIGHT
TZOFFSETFROM:+0100
TZOFFSETTO:+0200
TZNAME:CEST
DTSTART:20250330T010000
END:DAYLIGHT
BEGIN:STANDARD
TZOFFSETFROM:+0200
TZOFFSETTO:+0100
TZNAME:CET
DTSTART:20251026T010000
END:STANDARD
END:VTIMEZONE
BEGIN:VEVENT
DTSTART;TZID=Europe/Madrid:20250504T100000
DTEND;TZID=Europe/Madrid:20250504T133000
DTSTAMP:20260425T193259
CREATED:20250428T081815Z
LAST-MODIFIED:20250428T081815Z
UID:3333-1746352800-1746365400@genatur.com
SUMMARY:Taller de Orquídeas - Torre Pajarete y Ermita de las Montañas
DESCRIPTION:ATENCIÓN: PLAZAS NO DISPONIBLES POR WEB. PARA RESERVAR\, LLAMAR O ESCRIBIR AL 676987031 \n¿Te fascina el misterioso y elegante mundo de las orquídeas? ¡Esta es tu oportunidad! Te invitamos a un taller único en un entorno incomparable: la majestuosa Torre Pajarete y la serena Ermita de las Montañas. \nEn este taller práctico y envolvente\, descubrirás los secretos para cultivar y cuidar estas joyas de la naturaleza. Aprenderás sobre sus diversas especies\, sus necesidades específicas de luz\, riego y sustrato\, y los trucos para lograr floraciones espectaculares. ¡Te convertirás en un experto en orquídeas! Aunque el entorno natural que nos rodea es de una belleza singular\, con la imponente Torre Pajarete como testigo silencioso y la espiritual Ermita de las Montañas brindando paz\, el protagonista indiscutible de esta jornada será el fascinante universo de las orquídeas. \nLocalización: Prado del Rey\nHorario de la actividad: 10:00 a 13:30\nDificultad: baja – 5 km\nPrecio: 12 € y menores de 12 años 5 € \nQUE INCLUYE:\n– Guía especializado\n– Seguro de r. civil y accidentes \nQUE NO INCLUYE:\n– Avituallamiento\n–Desplazamiento hasta el punto de encuentro \nInscripciones en Genatur:\n676987031\ninfo@genatur.com\n www.genatur.com
URL:https://genatur.com/eventos/taller-de-orquideas-torre-pajarete-y-ermita-de-las-montanas/
CATEGORIES:Rutas culturales,Senderismo y naturaleza
ATTACH;FMTTYPE=image/jpeg:https://genatur.com/wp-content/uploads/2025/04/Orquidea-1.jpg
END:VEVENT
BEGIN:VEVENT
DTSTART;TZID=Europe/Madrid:20250511T100000
DTEND;TZID=Europe/Madrid:20250511T133000
DTSTAMP:20260425T193259
CREATED:20231006T083549Z
LAST-MODIFIED:20250502T084644Z
UID:2130-1746957600-1746970200@genatur.com
SUMMARY:Las Quebradas y los Antiguos Molinos de Viento
DESCRIPTION:Las Quebradas y los Antiguos Molinos de Viento \nEl sendero discurre por el camino de La Oliva y es una de las rutas ornitológicas del Parque Natural de la Breña y Marismas del Barbate. Se conocerá uno de los ecosistemas más representativos de este parque natural\, el Pinar\, que junto a las marismas y la franja marina\, ofrece una rica diversidad de paisajes en este espacio protegido.  También\, nuestro guía\, interpretará la flora\, fauna\, el paisaje\, los molinos de viento y su funcionamiento. \nLocalización: Vejer de la Frontera\nHorario de la actividad: 10:00 a 13:30\nDificultad: baja\, 6 km\nPrecio: 12€ y menores de 12 años 5€ \nQUE INCLUYE:\n– Guía profesional de naturaleza\n– Gestión del permiso\n– Seguro de r. civil y accidentes \nQUE NO INCLUYE:\n– Desplazamiento hasta el punto de encuentro\n– Avituallamiento \nInscripciones en Genatur:\n676987031\ninfo@genatur.com\n www.genatur.com
URL:https://genatur.com/eventos/las-quebradas-y-los-antiguos-molinos-de-viento/
CATEGORIES:Cultura: Arqueología e Historia,Senderismo y naturaleza
ATTACH;FMTTYPE=image/jpeg:https://genatur.com/wp-content/uploads/2023/10/244007574_6155676684503789_8157598359645936539_n.jpg
END:VEVENT
BEGIN:VEVENT
DTSTART;TZID=Europe/Madrid:20250517T100000
DTEND;TZID=Europe/Madrid:20250517T133000
DTSTAMP:20260425T193259
CREATED:20250428T082850Z
LAST-MODIFIED:20250428T082850Z
UID:3338-1747476000-1747488600@genatur.com
SUMMARY:Pico Albarracín
DESCRIPTION:ATENCIÓN: PLAZAS NO DISPONIBLES POR WEB. PARA RESERVAR\, LLAMAR O ESCRIBIR AL 676987031 \n¡Embárcate en esta aventura! Te invitamos a descubrir la Subida del Albarracín\, un sendero que te conducirá a través de paisajes impresionantes y te recompensará con vistas panorámicas inigualables de nuestra hermosa tierra. Siente la emoción de ascender mientras te rodea la naturaleza en su estado más puro\, con la promesa de una recompensa visual que te dejará sin aliento. \nLocalización: El Bosque (Cádiz)\nHorario de la actividad: 10:00 a 13:30\nRecorrido: 4 km ida y vuelta – Dificultad: Media\nPrecio: 12 € y menores de 12 años 5 € \nQUE INCLUYE:\n– Guía profesional de naturaleza\n– Gestión del permiso\n– Seguro de r. civil y accidentes \nQUE NO INCLUYE:\n– Desplazamiento hasta el punto de encuentro\n– Avituallamiento \nInscripciones e información en Genatur:\n📱676987031\n✉️info@genatur.com\n💻 www.genatur.com
URL:https://genatur.com/eventos/pico-albarracin/
CATEGORIES:Senderismo y naturaleza
ATTACH;FMTTYPE=image/jpeg:https://genatur.com/wp-content/uploads/2025/04/Albarracin-2.jpg
END:VEVENT
BEGIN:VEVENT
DTSTART;TZID=Europe/Madrid:20250518T100000
DTEND;TZID=Europe/Madrid:20250518T133000
DTSTAMP:20260425T193259
CREATED:20250428T084419Z
LAST-MODIFIED:20250428T084531Z
UID:3346-1747562400-1747575000@genatur.com
SUMMARY:Corredor del Boyar
DESCRIPTION:ATENCIÓN: PLAZAS NO DISPONIBLES POR WEB. PARA RESERVAR\, LLAMAR O ESCRIBIR AL 676987031 \n¡Respira la esencia de la Sierra de Grazalema en la Ascensión Mágica al Puerto del Boyar! \nPrepárate para una travesía inolvidable a lo largo del Corredor del Boyar\, donde cada paso es un regalo para tus sentidos. Este sendero te guiará a través de paisajes que te robarán el aliento\, con la majestuosa Sierra del Endrinal y el frondoso Pinar como telón de fondo constante. Siente la emoción de ascender y descubre cómo la naturaleza se transforma ante tus ojos. En las alturas\, durante la primavera\, déjate sorprender por la delicada belleza de los arbustos en flor y las esquivas orquídeas silvestres\, un espectáculo efímero que recompensa a los más observadores. Y la recompensa final te espera en la cima: el Puerto del Boyar\, un balcón natural privilegiado que te obsequiará con vistas panorámicas espectaculares de todo el suroeste de la provincia de Cádiz. ¡Un lienzo de montañas y valles que quedará grabado en tu memoria! Pero la aventura no termina ahí. A medida que desciendas\, serás testigo de la fascinante variación de la vegetación según la altitud. Los aires frescos de la cumbre dan paso a la sombra acogedora de los pinares y los robustos bosques de encinas y quejigos\, creando un mosaico natural de gran belleza. \nLocalización: Grazalema (Cádiz)\nHorario de la actividad: 10:00 a 13:30\nRecorrido: 8 km ida y vuelta – Dificultad: Baja\nPrecio: 12 € y menores de 12 años 5 € \nQUE INCLUYE:\n– Guía profesional de naturaleza\n– Gestión del permiso\n– Seguro de r. civil y accidentes \nQUE NO INCLUYE:\n– Desplazamiento hasta el punto de encuentro\n– Avituallamiento \nInscripciones e información en Genatur:\n📱676987031\n✉️info@genatur.com\n💻 www.genatur.com
URL:https://genatur.com/eventos/corredor-del-boyar/
CATEGORIES:Senderismo y naturaleza
ATTACH;FMTTYPE=image/jpeg:https://genatur.com/wp-content/uploads/2025/04/Corredor-del-Boyar.jpg
END:VEVENT
END:VCALENDAR