BEGIN:VCALENDAR
VERSION:2.0
PRODID:-//Genatur - ECPv6.10.0//NONSGML v1.0//EN
CALSCALE:GREGORIAN
METHOD:PUBLISH
X-WR-CALNAME:Genatur
X-ORIGINAL-URL:https://genatur.com
X-WR-CALDESC:Eventos para Genatur
REFRESH-INTERVAL;VALUE=DURATION:PT1H
X-Robots-Tag:noindex
X-PUBLISHED-TTL:PT1H
BEGIN:VTIMEZONE
TZID:Europe/Madrid
BEGIN:DAYLIGHT
TZOFFSETFROM:+0100
TZOFFSETTO:+0200
TZNAME:CEST
DTSTART:20250330T010000
END:DAYLIGHT
BEGIN:STANDARD
TZOFFSETFROM:+0200
TZOFFSETTO:+0100
TZNAME:CET
DTSTART:20251026T010000
END:STANDARD
END:VTIMEZONE
BEGIN:VEVENT
DTSTART;TZID=Europe/Madrid:20250830T100000
DTEND;TZID=Europe/Madrid:20250830T170000
DTSTAMP:20260421T141348
CREATED:20230202T093435Z
LAST-MODIFIED:20250825T093832Z
UID:440-1756548000-1756573200@genatur.com
SUMMARY:Río Majaceite - Circular
DESCRIPTION:Este sendero une las localidades de El Bosque y Benamahoma siguiendo el curso del río\, en un recorrido fresco y lleno de vida. Una vez en Benamahoma\, la ruta se adentra en la montaña\, tomando un desvío que nos conduce hacia un bosque mediterráneo de quejigos\, encinas y madroños\, un entorno mágico que invita a desconectar. El sendero asciende suavemente hasta alcanzar zonas más altas\, desde donde se disfruta de vistas panorámicas al pasar por Albarracinejo\, Aguas Turbias y el Cerro Albarracín. Tras este tramo\, el camino comienza su regreso para completar un recorrido circular que nos lleva de nuevo a El Bosque\, pasando justo por delante del Jardín Botánico El Castillejo\, un lugar ideal para conocer mejor la flora de la Sierra de Grazalema. Se trata de una ruta variada y completa: frescor de ribera\, senderos de montaña y bosque mediterráneo\, todo en un solo itinerario. Perfecta para quienes buscan naturaleza\, paisajes y tranquilidad. \n\nLocalización: Parque Natural Sierra de Grazalema\nHorario de la actividad: 10:00 a 17:00\nRecorrido: 10\,5 km ida y vuelta – Dificultad: Media\nPrecio: 15 € y menores de 12 años 7 €\n\nQUE INCLUYE:\n– Guía profesional de naturaleza\n– Gestión del permiso\n– Seguro de r. civil y accidentes\n\nQUE NO INCLUYE:\n– Desplazamiento hasta el punto de encuentro\n– Avituallamiento\n\nInscripciones e información en Genatur:\n676987031\ninfo@genatur.com\nwww.genatur.com
URL:https://genatur.com/eventos/nueva-ruta-circular-del-majaceite/
CATEGORIES:Rutas culturales,Senderismo y naturaleza
ATTACH;FMTTYPE=image/jpeg:https://genatur.com/wp-content/uploads/2023/02/Rio-Majaceite-3.jpg
END:VEVENT
END:VCALENDAR