BEGIN:VCALENDAR
VERSION:2.0
PRODID:-//Genatur - ECPv6.10.0//NONSGML v1.0//EN
CALSCALE:GREGORIAN
METHOD:PUBLISH
X-WR-CALNAME:Genatur
X-ORIGINAL-URL:https://genatur.com
X-WR-CALDESC:Eventos para Genatur
REFRESH-INTERVAL;VALUE=DURATION:PT1H
X-Robots-Tag:noindex
X-PUBLISHED-TTL:PT1H
BEGIN:VTIMEZONE
TZID:Europe/Madrid
BEGIN:DAYLIGHT
TZOFFSETFROM:+0100
TZOFFSETTO:+0200
TZNAME:CEST
DTSTART:20230326T010000
END:DAYLIGHT
BEGIN:STANDARD
TZOFFSETFROM:+0200
TZOFFSETTO:+0100
TZNAME:CET
DTSTART:20231029T010000
END:STANDARD
END:VTIMEZONE
BEGIN:VEVENT
DTSTART;TZID=Europe/Madrid:20231125T100000
DTEND;TZID=Europe/Madrid:20231125T133000
DTSTAMP:20260422T002028
CREATED:20231013T164710Z
LAST-MODIFIED:20231106T100119Z
UID:2156-1700906400-1700919000@genatur.com
SUMMARY:Sendero Jarillo - Torre de Meca
DESCRIPTION:Lugar perfecto para observar las características naturales y culturales del Parque Natural de la Breña y Marismas de Barbate; ecosistemas litorales\, fauna y flora asociada\, y el aprovechamiento de recursos naturales del entorno. Un recorrido de apenas tres kilómetros y medio de recorrido donde podremos encontrar dos áreas recreativas; el pinar\, plagado de colores y esencias; una torre almenara del siglo XVII y un mirador sobre Trafalgar Son algunos de los atractivos con que cuenta este sendero para caminar despacio y ascender a esta gran duna fijada por una generosa y variada vegetación convertida en refugio de vida animal y vegetal. \nLocalización: El Jarillo\, Barbate\nHorario de la actividad: 10:00 a 13:30\nRecorrido: 7\,5 km\nDificultad: baja\nPrecio: 12 € y menores de 12 años 5 € \nQUE INCLUYE:\n– Guía especializado\n-Gestión del permiso\n– Seguro de r. civil y accidentes \nQUE NO INCLUYE:\n– Avituallamiento\n-Desplazamiento hasta el punto de encuentro \nInscripciones en Genatur:\n676987031\ninfo@genatur.com\n www.genatur.com \n  \n  \nOLYMPUS DIGITAL CAMERA
URL:https://genatur.com/eventos/jarillo-torre-de-meca/
CATEGORIES:Cultura: Arqueología e Historia,Senderismo y naturaleza
ATTACH;FMTTYPE=image/jpeg:https://genatur.com/wp-content/uploads/2023/10/Torre-Meca-sendero-Jarillo_1756934344_174466291_667x375.jpg
END:VEVENT
END:VCALENDAR