BEGIN:VCALENDAR
VERSION:2.0
PRODID:-//Genatur - ECPv6.10.0//NONSGML v1.0//EN
CALSCALE:GREGORIAN
METHOD:PUBLISH
X-WR-CALNAME:Genatur
X-ORIGINAL-URL:https://genatur.com
X-WR-CALDESC:Eventos para Genatur
REFRESH-INTERVAL;VALUE=DURATION:PT1H
X-Robots-Tag:noindex
X-PUBLISHED-TTL:PT1H
BEGIN:VTIMEZONE
TZID:Europe/Madrid
BEGIN:DAYLIGHT
TZOFFSETFROM:+0100
TZOFFSETTO:+0200
TZNAME:CEST
DTSTART:20230326T010000
END:DAYLIGHT
BEGIN:STANDARD
TZOFFSETFROM:+0200
TZOFFSETTO:+0100
TZNAME:CET
DTSTART:20231029T010000
END:STANDARD
END:VTIMEZONE
BEGIN:VEVENT
DTSTART;TZID=Europe/Madrid:20231119T093000
DTEND;TZID=Europe/Madrid:20231119T190000
DTSTAMP:20260422T020015
CREATED:20231004T084746Z
LAST-MODIFIED:20231031T122500Z
UID:2109-1700386200-1700420400@genatur.com
SUMMARY:Visita guiada a Parauta - El Bosque Encantado
DESCRIPTION:Parauta\, pueblo malagueño ubicado en el Valle del Genal\, es donde encontramos la ruta del Bosque Encantado. Se trata de un recorrido lineal entre los municipios de Parauta y Cartajima\, de unos 3 km ida y vuelta\, apto para toda la familia. En la ruta\, podremos observar las obras del artista Diego Guerrero\, que ha llenado el Valle de personajes mágicos; hadas\, duendes y magos\, basados en la leyenda de la Escalereta\, donde una mujer tiene la misión de ser la guardiana de un portal mágico que comunica nuestro mundo con el de los seres asombrosos. \nHORARIO DE LA ACTIVIDAD:\n– 9:30 quedada y salida en autobús desde Jerez de la Frontera\n– 12.00 llegada y sendero con un guía profesional\n– 14.00 almuerzo picnic\n– 15.30 visita por el centro histórico de Parauta\n– 17.00 salida hacía Jerez de la Frontera \nQUE INCLUYE:\n– Guía profesional de naturaleza y cultura\n– Gestión del permiso\n– Seguro de r. civil y accidentes\n– Transporte en autobús\n– Almuerzo picnic \nQUE NO INCLUYE:\n– Avituallamiento \nPara que la actividad se celebre\, deberá haber un mínimo de 30 personas apuntadas. Si el participante\, se da se baja por cualquier razón\, se devolverá el importe de la actividad\, menos el importe del autobús. Si la actividad es cancelada\, se devolverá todo el importe. Importe aún por determinar. \nInscripciones e información en Genatur:\n📱676987031\n✉️info@genatur.com\n💻 www.genatur.com
URL:https://genatur.com/eventos/visita-guiada-a-parauta-el-bosque-encantado/
CATEGORIES:Cultura: Arqueología e Historia,Excursiones en autobús,Senderismo y naturaleza
ATTACH;FMTTYPE=image/webp:https://genatur.com/wp-content/uploads/2023/10/parauta-4.webp
END:VEVENT
END:VCALENDAR