BEGIN:VCALENDAR
VERSION:2.0
PRODID:-//Genatur - ECPv6.10.0//NONSGML v1.0//EN
CALSCALE:GREGORIAN
METHOD:PUBLISH
X-WR-CALNAME:Genatur
X-ORIGINAL-URL:https://genatur.com
X-WR-CALDESC:Eventos para Genatur
REFRESH-INTERVAL;VALUE=DURATION:PT1H
X-Robots-Tag:noindex
X-PUBLISHED-TTL:PT1H
BEGIN:VTIMEZONE
TZID:Europe/Madrid
BEGIN:DAYLIGHT
TZOFFSETFROM:+0100
TZOFFSETTO:+0200
TZNAME:CEST
DTSTART:20230326T010000
END:DAYLIGHT
BEGIN:STANDARD
TZOFFSETFROM:+0200
TZOFFSETTO:+0100
TZNAME:CET
DTSTART:20231029T010000
END:STANDARD
END:VTIMEZONE
BEGIN:VEVENT
DTSTART;TZID=Europe/Madrid:20231027T190000
DTEND;TZID=Europe/Madrid:20231027T210000
DTSTAMP:20260422T052353
CREATED:20231003T163156Z
LAST-MODIFIED:20231003T163156Z
UID:2098-1698433200-1698440400@genatur.com
SUMMARY:Ruta Botánica Jerez - Paseo por parques y jardines del norte
DESCRIPTION:Jerez de la Frontera puede presumir de ser una de las ciudades con más arbolado de España y una de las primeras ciudades de Europa donde se celebró la Fiesta del Árbol datada de 1898. Actualmente cuenta con 9 jardines declarados de Interés Cultural\, más de 100 árboles catalogados como singulares por su rareza\, porte o singularidad. A través de la “Ruta de las especies”\, invitamos a descubrir el origen y la historia del arbolamiento de nuestra ciudad\, mediante un viaje de sensaciones y sucesos a través del espacio y el tiempo. \nLa ruta norte recorre la avenida Álvaro Domecq\, una delas principales arterias de la ciudad del siglo XX \, hasta desembocar en la Plaza del Caballo y posteriormente en el primer parque público que tuvo Jerez: el Parque González Hontoria. No obstante\, a lo largo de esta amplia avenida se salpican interesantes zonas arboladas colindantes a las viviendas y hoteles\, que albergan ejemplares botánicos de interés y ofrecen un rincón de paz entre la multitud y el tráfico de la avenida. El itinerario culmina en un señorial parque de origen bodeguero: el parque Williams. \nLocalización: Jerez de la Frontera\nHorario de la actividad: 19:00 a 21:00\nDificultad: baja\nPrecio: 12 € y menores de 12 años 5 € \nQUE INCLUYE:\n– Guía especializado\n– Seguro de r. civil y accidentes \nQUE NO INCLUYE:\n– Avituallamiento \nInscripciones en Genatur:\n676987031\ninfo@genatur.com\n www.genatur.com
URL:https://genatur.com/eventos/ruta-botanica-jerez-paseo-por-parques-y-jardines-del-norte/
CATEGORIES:Cultura: Arqueología e Historia,Senderismo y naturaleza
ATTACH;FMTTYPE=image/jpeg:https://genatur.com/wp-content/uploads/2023/10/WhatsApp-Image-2023-10-03-at-18.57.07-1.jpeg
END:VEVENT
END:VCALENDAR