BEGIN:VCALENDAR
VERSION:2.0
PRODID:-//Genatur - ECPv6.10.0//NONSGML v1.0//EN
CALSCALE:GREGORIAN
METHOD:PUBLISH
X-WR-CALNAME:Genatur
X-ORIGINAL-URL:https://genatur.com
X-WR-CALDESC:Eventos para Genatur
REFRESH-INTERVAL;VALUE=DURATION:PT1H
X-Robots-Tag:noindex
X-PUBLISHED-TTL:PT1H
BEGIN:VTIMEZONE
TZID:Europe/Madrid
BEGIN:DAYLIGHT
TZOFFSETFROM:+0100
TZOFFSETTO:+0200
TZNAME:CEST
DTSTART:20250330T010000
END:DAYLIGHT
BEGIN:STANDARD
TZOFFSETFROM:+0200
TZOFFSETTO:+0100
TZNAME:CET
DTSTART:20251026T010000
END:STANDARD
END:VTIMEZONE
BEGIN:VEVENT
DTSTART;TZID=Europe/Madrid:20251026T100000
DTEND;TZID=Europe/Madrid:20251026T133000
DTSTAMP:20260421T191020
CREATED:20230202T095654Z
LAST-MODIFIED:20251021T122146Z
UID:459-1761472800-1761485400@genatur.com
SUMMARY:Sendero El Arroyo del Parral - Montes de Propios
DESCRIPTION:Localización: Montes Propios de Jerez (Los Alcornocales) \nEn este sendero nos vamos a adentrar en el monte mediterráneo\, destacando el Bosque de Acebuchal y Los Canutos. Veremos algunos arroyos\, el manantial\, acebuches\, alcornoques\, quejigos\, helechos\, hojaranzos\, etc.\nTendremos la oportunidad también de pasar junto a instalaciones ganaderas de vacas retintas\, limusinas y charolesas.\nDurante el recorrido por el sendero iremos identificando y observando los rastros dejados por los animales (huesos\, excrementos\, huellas…) y conoceremos las diferentes especies que viven en los Montes. \nPrecio: 12 € y menores de 12 años 5 €\nHorario de la actividad: 10:00 a 13:30\nRecorrido: 5\,5 km – Dificultad: Baja\nPunto de Encuentro: Finca La Jarda (enviamos ubicación)\nNosotros salimos desde el aparcamiento del cementerio de Jerez-\nSi quieres compartir vehículo\, contacta con nosotros. \nQUE INCLUYE:\nGuía profesional de naturaleza\nPosibilidad de compartir furgoneta con el guía desde Jerez.\nGestión del permiso\nSeguro de r. civil y accidentes \nQUE NO INCLUYE:\nAvituallamiento \n 
URL:https://genatur.com/eventos/sendero-el-arroyo-del-parral-rastros-y-huellas/
CATEGORIES:Senderismo y naturaleza
ATTACH;FMTTYPE=image/jpeg:https://genatur.com/wp-content/uploads/2023/02/Arroyo-del-Parral-4.jpg
END:VEVENT
END:VCALENDAR