BEGIN:VCALENDAR
VERSION:2.0
PRODID:-//Genatur - ECPv6.10.0//NONSGML v1.0//EN
CALSCALE:GREGORIAN
METHOD:PUBLISH
X-WR-CALNAME:Genatur
X-ORIGINAL-URL:https://genatur.com
X-WR-CALDESC:Eventos para Genatur
REFRESH-INTERVAL;VALUE=DURATION:PT1H
X-Robots-Tag:noindex
X-PUBLISHED-TTL:PT1H
BEGIN:VTIMEZONE
TZID:Europe/Madrid
BEGIN:DAYLIGHT
TZOFFSETFROM:+0100
TZOFFSETTO:+0200
TZNAME:CEST
DTSTART:20250330T010000
END:DAYLIGHT
BEGIN:STANDARD
TZOFFSETFROM:+0200
TZOFFSETTO:+0100
TZNAME:CET
DTSTART:20251026T010000
END:STANDARD
END:VTIMEZONE
BEGIN:VEVENT
DTSTART;TZID=Europe/Madrid:20251018T100000
DTEND;TZID=Europe/Madrid:20251018T133000
DTSTAMP:20260421T190931
CREATED:20240124T113638Z
LAST-MODIFIED:20251014T103010Z
UID:2419-1760781600-1760794200@genatur.com
SUMMARY:Llanos del Berral
DESCRIPTION:ATENCIÓN: PLAZAS NO DISPONIBLES POR WEB. PARA RESERVAR\, LLAMAR O ESCRIBIR AL 676987031 \nSuave descenso por relieve calizo\, con un bosque mediterráneo con predominio de encinar y quejigal. Vistas a la Sierra del Pinar\, y a El Torreón\, punto más alto de la provincia. Vistas hacia el castillo de Aznalmara y sierra de la Silla. Restos de era y de cantera sellada. Durante nuestro recorrido podemos admirar el bosque mediterráneo y su matorral\, con abundantes encinas\, quejigos\, algarrobos\, jaras\, zarzaparrillas\, lentiscos\, o palmitos\, entre otras especies. Además de buitres\, podemos demás observar una amplia variedad de aves asociadas a estos entornos boscosos como herrerillos\, carboneros\, pinzones\, agateadores\, trepadores azul\, arrendajos\, pájaros carpintero\, mitos o reyezuelos \nLocalización: Benaocaz\nHorario de la actividad: 10:00 a 13:30\nDificultad: baja\nPrecio: 12 € y menores de 12 años 5 € \nQUE INCLUYE:\n– Guía especializado en naturaleza\n– Seguro de r. civil y accidentes \nQUE NO INCLUYE:\n– Desplazamiento hasta el punto de encuentro.\n– Avituallamiento \nInscripciones en Genatur:\n676987031\ninfo@genatur.com\n www.genatur.com
URL:https://genatur.com/eventos/llanos-del-berral/
CATEGORIES:Senderismo y naturaleza
ATTACH;FMTTYPE=image/jpeg:https://genatur.com/wp-content/uploads/2024/01/2018-01-27.jpg
END:VEVENT
BEGIN:VEVENT
DTSTART;TZID=Europe/Madrid:20251018T110000
DTEND;TZID=Europe/Madrid:20251018T140000
DTSTAMP:20260421T190931
CREATED:20251006T124329Z
LAST-MODIFIED:20251014T104746Z
UID:3451-1760785200-1760796000@genatur.com
SUMMARY:Taller de Macramé: Crea tu propio Atrapasueño
DESCRIPTION:ATENCIÓN: PLAZAS NO DISPONIBLES POR WEB. PARA RESERVAR\, LLAMAR O ESCRIBIR AL 676987031 \n¿Te gustaría aprender una técnica artesanal relajante y llevarte a casa tu propia creación? Te invitamos a participar en nuestro Taller de Macramé\, donde aprenderás paso a paso a elaborar un hermoso atrapasueños hecho por ti. \n🧵 Qué haremos: Con la guía de una monitora especializada en macramé\, aprenderás los nudos básicos y técnicas necesarias para crear un atrapasueños único\, lleno de encanto y significado. \n☕ Además\, compartiremos un pequeño desayuno para disfrutar juntos mientras creamos. \n🗓️ Cuándo: de 10:00 a 13:30 h – 3\,5 hotas 📍 Dónde: Viña Escuela Las Majadillas💫 No se necesita experiencia previa\, solo ganas de aprender y disfrutar. \n🎟️ Plazas limitadas – ¡reserva la tuya y deja volar tu creatividad! \nPrecio: 10€ \nInscripciones en Genatur:\n676987031\ninfo@genatur.com\nwww.genatur.com \n      
URL:https://genatur.com/eventos/taller-de-macrame-crea-tu-propio-atrapasueno/
CATEGORIES:Turismo activo
ATTACH;FMTTYPE=image/jpeg:https://genatur.com/wp-content/uploads/2025/10/WhatsApp-Image-2025-10-08-at-13.14.08-2.jpeg
END:VEVENT
END:VCALENDAR