BEGIN:VCALENDAR
VERSION:2.0
PRODID:-//Genatur - ECPv6.10.0//NONSGML v1.0//EN
CALSCALE:GREGORIAN
METHOD:PUBLISH
X-WR-CALNAME:Genatur
X-ORIGINAL-URL:https://genatur.com
X-WR-CALDESC:Eventos para Genatur
REFRESH-INTERVAL;VALUE=DURATION:PT1H
X-Robots-Tag:noindex
X-PUBLISHED-TTL:PT1H
BEGIN:VTIMEZONE
TZID:Europe/Madrid
BEGIN:DAYLIGHT
TZOFFSETFROM:+0100
TZOFFSETTO:+0200
TZNAME:CEST
DTSTART:20250330T010000
END:DAYLIGHT
BEGIN:STANDARD
TZOFFSETFROM:+0200
TZOFFSETTO:+0100
TZNAME:CET
DTSTART:20251026T010000
END:STANDARD
END:VTIMEZONE
BEGIN:VEVENT
DTSTART;TZID=Europe/Madrid:20250928T190000
DTEND;TZID=Europe/Madrid:20250928T213000
DTSTAMP:20260421T225414
CREATED:20230823T093638Z
LAST-MODIFIED:20250909T075804Z
UID:1879-1759086000-1759095000@genatur.com
SUMMARY:Visita a la Viña Escuela Las Majadillas y guiso al atardecer
DESCRIPTION:Para las Fiestas de la Vendimia 2024\, que se celebraran entre los días 30 de agosto y 15 de septiembre\, Genatur inclye en el programa oficial las visitas a la Viña Escuela Las Majadillas y guiso jerezano al atardecer. \nJerez de la Frontera es mundialmente conocido por su campiña\, es la cuna del vino. Pasaremos la tarde-noche en la Viña Escuela Las Majadillas\, conociendo las labores de la campiña\, la influencia del clima\, la tierra\, la poda\, las cepas… Después realizaremos una cata de vinos. Mientras\, contemplaremos nuestro maravilloso atardecer. \nLocalización: Jerez de la Frontera (Cádiz)\nHorario de la actividad: 19:00 a 21:30\nPrecio: 25€ \nQUE INCLUYE:\n– Guía profesional de enología\n– Material para la cata de vinos\n– Seguro de r. civil y accidentes \nQUE NO INCLUYE:\n– Desplazamiento hasta el punto de encuentro\n– Avituallamiento \nInscripciones en Genatur:\n📱676987031\n✉️info@genatur.com\n💻 www.genatur.com
URL:https://genatur.com/eventos/visita-a-la-vina-escuela-las-majadillas-y-guiso-al-atardecer-2/
CATEGORIES:Enoturismo
ATTACH;FMTTYPE=image/jpeg:https://genatur.com/wp-content/uploads/2023/08/11811339_899210126817164_8309526322723221808_n.jpg
END:VEVENT
BEGIN:VEVENT
DTSTART;TZID=Europe/Madrid:20250928T190000
DTEND;TZID=Europe/Madrid:20250928T230000
DTSTAMP:20260421T225415
CREATED:20240826T095451Z
LAST-MODIFIED:20250909T081519Z
UID:2734-1759086000-1759100400@genatur.com
SUMMARY:Escucha de la Berrea del Ciervo - Montes Propios
DESCRIPTION:Este evento en el Parque Natural Los Alcornocales ofrece una experiencia inmersiva en la naturaleza\, centrada en la observación de la Berrea del Ciervo en los Montes Propios de Jerez. Guiados por un experto\, los participantes recorrerán el sendero «Cerro del Charco»\, un camino de suaves pendientes que atraviesa un ecosistema diverso y valioso. Durante el recorrido\, se explorarán diferentes zonas del bosque\, observando rastros de fauna local como ciervos y corzos. La actividad culmina con la escucha del bramido de los ciervos machos\, ofreciendo una conexión única con la vida salvaje en su entorno natural. \nLocalización: Los Montes Propios de Jerez.\nHorario de la actividad: 19:00 a 22:30\nDificultad: baja – 8 km de ida y vuelta. Cota máxima y mínima: 250-375\nPrecio: 15 € y menores de 8 a 12 años 7 € \nQUE INCLUYE:\n– Guía profesional de naturaleza explicando el recorrido\n– Material óptico: prismáticos y fichas explicativas\n– Gestión del permiso – EMEMSA\n– Seguro de r. civil y accidentes\n– Posibilidad de desplazamiento desde Jerez (plazas limitadas) \nQUE NO INCLUYE:\n– Avituallamiento \nTransporte con plazas limitadas desde Jerez de la Fronteras hasta el punto de encuentro\, contactar al 676987031 para reservar. \nEsta actividad está organizada desde el tercer fin de semana de septiembre hasta el primero de octubre. Consulta plazas sin compromiso. \nInscripciones en Genatur:\n676987031\ninfo@genatur.com\n www.genatur.com \n 
URL:https://genatur.com/eventos/escucha-de-la-berrea-del-ciervo-montes-propios-5/
CATEGORIES:Senderismo y naturaleza
ATTACH;FMTTYPE=image/jpeg:https://genatur.com/wp-content/uploads/2023/08/Ciervo.jpg
END:VEVENT
END:VCALENDAR