BEGIN:VCALENDAR
VERSION:2.0
PRODID:-//Genatur - ECPv6.10.0//NONSGML v1.0//EN
CALSCALE:GREGORIAN
METHOD:PUBLISH
X-WR-CALNAME:Genatur
X-ORIGINAL-URL:https://genatur.com
X-WR-CALDESC:Eventos para Genatur
REFRESH-INTERVAL;VALUE=DURATION:PT1H
X-Robots-Tag:noindex
X-PUBLISHED-TTL:PT1H
BEGIN:VTIMEZONE
TZID:Europe/Madrid
BEGIN:DAYLIGHT
TZOFFSETFROM:+0100
TZOFFSETTO:+0200
TZNAME:CEST
DTSTART:20250330T010000
END:DAYLIGHT
BEGIN:STANDARD
TZOFFSETFROM:+0200
TZOFFSETTO:+0100
TZNAME:CET
DTSTART:20251026T010000
END:STANDARD
END:VTIMEZONE
BEGIN:VEVENT
DTSTART;TZID=Europe/Madrid:20250823T100000
DTEND;TZID=Europe/Madrid:20250823T133000
DTSTAMP:20260422T081911
CREATED:20230719T084934Z
LAST-MODIFIED:20250820T101346Z
UID:1692-1755943200-1755955800@genatur.com
SUMMARY:Los Acantilados de Barbate - Torre del Tajo
DESCRIPTION:ATENCIÓN: PLAZAS NO DISPONIBLES POR WEB. PARA RESERVAR\, LLAMAR O ESCRIBIR AL 676987031 \nUna de las vistas más espectaculares del Parque Natural de la Breña y Marismas del Barbate. El acantilado del Tajo o de Barbate es una espléndida muestra de las fuerzas de la naturaleza\, en este caso la erosión que provoca el mar. Se eleva hasta algo más de cien metros sobre el nivel del mar\, justo en las inmediaciones de la torre del Tajo. La ruta se encuentra sobre un gran sistema de dunas\, repletas de pinos piñoneros y de enebros marítimos. Numerosas aves utilizan el acantilado para anidar. ¡¡No te lo pierdas!! \nAdemás\, es un sendero estupendo para disfrutar después de un día de playa\, ya que parte desde la Playa de la Hierbabuena y pasa junto a ella en su primer tramo\, lo que permite combinar sendero y baño en un mismo plan. \nLocalización: Barbate (Cádiz)\nHorario de la actividad: 10:00 a 13:30\nRecorrido: 7 km ida y vuelta – Dificultad: Baja\nPrecio: 12 € y menores de 12 años 5 € \nQUE INCLUYE:QUE INCLUYE:\n– Guía profesional de naturaleza\n– Gestión del permiso\n– Seguro de r. civil y accidentes \nQUE NO INCLUYE:\n– Desplazamiento hasta el punto de encuentro\n– Avituallamiento \nInscripciones e información en Genatur:\n📱676987031\n✉️info@genatur.com\n💻 www.genatur.com \n 
URL:https://genatur.com/eventos/los-acantilados-al-atardecer-barbate/
CATEGORIES:Senderismo y naturaleza
ATTACH;FMTTYPE=image/jpeg:https://genatur.com/wp-content/uploads/2023/07/acantilados-la-Brena.jpg
END:VEVENT
END:VCALENDAR