BEGIN:VCALENDAR
VERSION:2.0
PRODID:-//Genatur - ECPv6.10.0//NONSGML v1.0//EN
CALSCALE:GREGORIAN
METHOD:PUBLISH
X-WR-CALNAME:Genatur
X-ORIGINAL-URL:https://genatur.com
X-WR-CALDESC:Eventos para Genatur
REFRESH-INTERVAL;VALUE=DURATION:PT1H
X-Robots-Tag:noindex
X-PUBLISHED-TTL:PT1H
BEGIN:VTIMEZONE
TZID:Europe/Madrid
BEGIN:DAYLIGHT
TZOFFSETFROM:+0100
TZOFFSETTO:+0200
TZNAME:CEST
DTSTART:20250330T010000
END:DAYLIGHT
BEGIN:STANDARD
TZOFFSETFROM:+0200
TZOFFSETTO:+0100
TZNAME:CET
DTSTART:20251026T010000
END:STANDARD
END:VTIMEZONE
BEGIN:VEVENT
DTSTART;TZID=Europe/Madrid:20250719T193000
DTEND;TZID=Europe/Madrid:20250719T213000
DTSTAMP:20260424T192327
CREATED:20230613T071127Z
LAST-MODIFIED:20250617T061136Z
UID:1490-1752953400-1752960600@genatur.com
SUMMARY:El Olivar Ecológico de la Janda - Cata Aceite y Copa Vino a la Puesta de Sol
DESCRIPTION:EL OLIVAR ECOLÓGICO DE LA JANDA + CATA ACEITE + COPA VINO A LA PUESTA DE SOL \nDescubre la cultura del aceite y del olivar ecológico de la zona de la Janda.\nConocerás de la mano de un profesional experto\, la producción del aceite\, el proceso de extracción del AOVE\, las variedades\, la historia\, el origen y disfrutarás de un agradable recorrido guiado por El Olivar.\nTambién se visitará el Centro de Interpretación y se realizará una Cata comentada de Aceite de Oliva Virgen Extra\, apreciando sus matices de carácter\, aroma\, sabor\, textura y color y sus propiedades organolépticas y los beneficios para la salud del consumo del aceite de oliva.\nPara finalizar\, os invitaremos a una Copa de Vino en este paraje tan magnífico y contemplaremos la Puesta de Sol desde una perspectiva inigualable\, con panorámicas de la Janda. \nLocalización: El Palmar (Vejer Fra.) \nHorario de la actividad: 19:30 a 21:30\nPrecio: 19 € cada participante \nQUE INCLUYE:\n– Visita guiada del Olivar Ecológico\n– Explicaciones sobre el cultivo y producción\n– Visita guiada del Centro de Interpretación del Olivar\n– Cata comentada de aceites\n– Copa de vino a la puesta de sol \nQUE NO INCLUYE:\n– Desplazamiento hasta el punto de encuentro\n– Avituallamiento \nInscripciones en Genatur:\n676987031\ninfo@genatur.com\n www.genatur.com
URL:https://genatur.com/eventos/el-olivar-ecologico-de-la-janda-cata-aceite-copa-vino-a-la-puesta-de-sol/
CATEGORIES:Ecoturismo
ATTACH;FMTTYPE=image/jpeg:https://genatur.com/wp-content/uploads/2023/06/313979865_143307785124901_5036919082713498458_n.jpg
END:VEVENT
END:VCALENDAR