BEGIN:VCALENDAR
VERSION:2.0
PRODID:-//Genatur - ECPv6.10.0//NONSGML v1.0//EN
CALSCALE:GREGORIAN
METHOD:PUBLISH
X-WR-CALNAME:Genatur
X-ORIGINAL-URL:https://genatur.com
X-WR-CALDESC:Eventos para Genatur
REFRESH-INTERVAL;VALUE=DURATION:PT1H
X-Robots-Tag:noindex
X-PUBLISHED-TTL:PT1H
BEGIN:VTIMEZONE
TZID:Europe/Madrid
BEGIN:DAYLIGHT
TZOFFSETFROM:+0100
TZOFFSETTO:+0200
TZNAME:CEST
DTSTART:20240331T010000
END:DAYLIGHT
BEGIN:STANDARD
TZOFFSETFROM:+0200
TZOFFSETTO:+0100
TZNAME:CET
DTSTART:20241027T010000
END:STANDARD
END:VTIMEZONE
BEGIN:VEVENT
DTSTART;TZID=Europe/Madrid:20240407T190000
DTEND;TZID=Europe/Madrid:20240407T223000
DTSTAMP:20260421T190034
CREATED:20240402T060724Z
LAST-MODIFIED:20240402T060724Z
UID:2559-1712516400-1712529000@genatur.com
SUMMARY:Sendero Pinar del Hierro\, Punto Mágico y Cerro de la Espartosa
DESCRIPTION:Conoceremos la reserva forestal del Pinar del Hierro\, que por su gran biodiversidad\, es uno de los pinares andaluces más importantes y amenazados\, ya que alberga una abundante variedad de especies de fauna y vegetación\, algunas de ellas catalogadas en peligro de extinción. Durante el camino nos encontraremos con «las caleras»\, que son unos hornos donde antaño se fabricaba la cal. Subiremos al Cerro de la Espartosa y llegaremos al mirador\, conocido como «El Punto Mágico» y observaremos la inmensidad de entorno. \nLocalización: Chiclana de la frontera.\nHorario de la actividad: 10:00 a 13:30\nRecorrido: 6 km circular\nDificultad: Baja\, con alguna pendiente\nPrecio: 12 € y menores de 12 años 5 € \nQUE INCLUYE:\n– Guía profesional de naturaleza\n– Gestión del permiso\n– Seguro de r. civil y accidentes \nQUE NO INCLUYE:\n– Desplazamiento hasta el punto de encuentro.\n– Avituallamiento \nInscripciones en Genatur:\n676987031\ninfo@genatur.com\n www.genatur.com
URL:https://genatur.com/eventos/sendero-pinar-del-hierro-punto-magico-y-cerro-de-la-espartosa/
CATEGORIES:Senderismo y naturaleza
ATTACH;FMTTYPE=image/jpeg:https://genatur.com/wp-content/uploads/2024/04/Pinar-Hierro.jpg
END:VEVENT
END:VCALENDAR