BEGIN:VCALENDAR
VERSION:2.0
PRODID:-//It is born - ECPv6.10.0//NONSGML v1.0//EN
CALSCALE:GREGORIAN
METHOD:PUBLISH
X-WR-CALNAME:Genatur
X-ORIGINAL-URL:https://genatur.com
X-WR-CALDESC:Events for It is born
REFRESH-INTERVAL;VALUE=DURATION:PT1H
X-Robots-Tag:noindex
X-PUBLISHED-TTL:PT1H
BEGIN:VTIMEZONE
TZID:Europe/Madrid
BEGIN:DAYLIGHT
TZOFFSETFROM:+0100
TZOFFSETTO:+0200
TZNAME:CEST
DTSTART:20250330T010000
END:DAYLIGHT
BEGIN:STANDARD
TZOFFSETFROM:+0200
TZOFFSETTO:+0100
TZNAME:CET
DTSTART:20251026T010000
END:STANDARD
END:VTIMEZONE
BEGIN:VEVENT
DTSTART;TZID=Europe/Madrid:20251227T110000
DTEND;TZID=Europe/Madrid:20251227T140000
DTSTAMP:20260421T191300
CREATED:20250107T104508Z
LAST-MODIFIED:20251218T110129Z
UID:2792-1766833200-1766844000@genatur.com
SUMMARY:Taller de Decoración de Velas Navideñas
DESCRIPTION:ATTENTION: PLACES NOT AVAILABLE ON THE WEBSITE. PARA RESERVAR\, CALL OR WRITE 676987031 \nSumérgete en un mundo de creatividad y color con nuestro taller de decoración de velas. You will learn how to transform simple candles into unique works of art using colored candle waxes. Mientras te relajas\, Enjoy a wine and a tapa at our Viña Escuela. Unleash your imagination and create personalized candles for any occasion! \n\nDuración: Of 2\,5 a 3 horas\nPrecio: 25€\nRatio máxima por monitor: 15 a 20 personas\n\n\n¿A quién va dirigido? This workshop is ideal for all those people interested in the world of creativity. No se requieren conocimientos previos\, es para todas las edades.\nMateriales incluidos: Velas base\, ceras de colores en diferentes tonalidades\, elementos decorativos\, pinceles y herramientas de trabajo.\nPunto encuentro: Ctra. el Calvario\, 11408 Jerez de la Frontera\, Cádiz\, mandamos ubicación cuando se confirme la actividad.\n\nQue incluye: \n\nGuía profesional de Artes Plásticas y Diseño\nMateriales necesarios para la actividad\nSeguro de r. civil y accidentes\n\nQue no incluye: \n\nDesplazamiento hasta el punto de encuentro.\nAvituallamiento\n\nInscripciones en Genatur:\n676987031\ninfo@genatur.com\nwww.genatur.com
URL:https://genatur.com/eventos/taller-de-decoracion-de-velas/
CATEGORIES:Turismo activo
ATTACH;FMTTYPE=image/jpeg:https://genatur.com/wp-content/uploads/2025/01/Candle-painting_-How-to-paint-candles-using-wax.jpg
END:VEVENT
END:VCALENDAR