BEGIN:VCALENDAR
VERSION:2.0
PRODID:-//It is born - ECPv6.10.0//NONSGML v1.0//EN
CALSCALE:GREGORIAN
METHOD:PUBLISH
X-WR-CALNAME:Genatur
X-ORIGINAL-URL:https://genatur.com
X-WR-CALDESC:Events for It is born
REFRESH-INTERVAL;VALUE=DURATION:PT1H
X-Robots-Tag:noindex
X-PUBLISHED-TTL:PT1H
BEGIN:VTIMEZONE
TZID:Europe/Madrid
BEGIN:DAYLIGHT
TZOFFSETFROM:+0100
TZOFFSETTO:+0200
TZNAME:CEST
DTSTART:20250330T010000
END:DAYLIGHT
BEGIN:STANDARD
TZOFFSETFROM:+0200
TZOFFSETTO:+0100
TZNAME:CET
DTSTART:20251026T010000
END:STANDARD
END:VTIMEZONE
BEGIN:VEVENT
DTSTART;TZID=Europe/Madrid:20251115T100000
DTEND;TZID=Europe/Madrid:20251115T133000
DTSTAMP:20260421T203859
CREATED:20250123T132129Z
LAST-MODIFIED:20251103T113623Z
UID:2814-1763200800-1763213400@genatur.com
SUMMARY:Salto del Cabrero
DESCRIPTION:ATTENTION: PLACES NOT AVAILABLE ON THE WEBSITE. PARA RESERVAR\, CALL OR WRITE 676987031 \nConocido como el “Camino del Puerto de Don Fernando”\, The Path of the Cabrero Salto runs along the old road that linked the towns of Benaocaz and Grazalema. La ruta nos lleva a las montañas y a una espectacular formación geológica\, A tear of colossal proportions that fragmented the mountains in several failures millions of years ago. Imagine walking through this narrow step and listening to the stories of the ancient goats! \n\nLocalización: Benaocaz\nHorario de la actividad: 10:00 a 13:30\nRecorrido: 6\,5 km ida y vuelta\nDificultad: Media\nCota máxima y mínima: 884-731\nPrecio: 12 € and under 12 years 5 € \nQUE INCLUYE:\n– Guía especializado en naturaleza\n– Seguro de r. civil y accidentes \nQUE NO INCLUYE:\n– Desplazamiento hasta el punto de encuentro.\n– Avituallamiento \nInscripciones en Genatur:\n676987031\ninfo@genatur.com\n www.genatur.com
URL:https://genatur.com/eventos/salto-del-cabrero/
CATEGORIES:Senderismo y naturaleza
ATTACH;FMTTYPE=image/jpeg:https://genatur.com/wp-content/uploads/2025/01/Salto-del-Cabrero-8-scaled.jpg
END:VEVENT
END:VCALENDAR