BEGIN:VCALENDAR
VERSION:2.0
PRODID:-//It is born - ECPv6.10.0//NONSGML v1.0//EN
CALSCALE:GREGORIAN
METHOD:PUBLISH
X-ORIGINAL-URL:https://genatur.com
X-WR-CALDESC:Events for It is born
REFRESH-INTERVAL;VALUE=DURATION:PT1H
X-Robots-Tag:noindex
X-PUBLISHED-TTL:PT1H
BEGIN:VTIMEZONE
TZID:Europe/Madrid
BEGIN:DAYLIGHT
TZOFFSETFROM:+0100
TZOFFSETTO:+0200
TZNAME:CEST
DTSTART:20250330T010000
END:DAYLIGHT
BEGIN:STANDARD
TZOFFSETFROM:+0200
TZOFFSETTO:+0100
TZNAME:CET
DTSTART:20251026T010000
END:STANDARD
END:VTIMEZONE
BEGIN:VEVENT
DTSTART;TZID=Europe/Madrid:20251011T100000
DTEND;TZID=Europe/Madrid:20251011T133000
DTSTAMP:20260422T012502
CREATED:20251008T124401Z
LAST-MODIFIED:20251008T124401Z
UID:3464-1760176800-1760189400@genatur.com
SUMMARY:Jerez Histórico – Centro e Iglesias
DESCRIPTION:ATTENTION: PLACES NOT AVAILABLE ON THE WEBSITE. PARA RESERVAR\, CALL OR WRITE 676987031 \n¡Explora el corazón histórico de Jerez de la Frontera con nuestra exclusiva ruta turística! \nSumérgete en la rica historia y el esplendor arquitectónico del centro de Jerez de la Frontera con nuestra ruta guiada por sus emblemáticas iglesias y monumentos. Esta experiencia única te permitirá descubrir los tesoros ocultos y las maravillas culturales de una ciudad con siglos de historia. \nDatos \n\nDuración: Of 3\,5 a 4 horas\nPrecio: 12€ and under 12 años 5€\nRecorrido: 6\,5 km ida y vuelta\nDificultad: Baja. Ruta para toda la familia.\nPunto encuentro: Alameda del Banco\, Alcázar de Jerez. Mandaremos ubicación exacta cuando se confirme la actividad.\n\nInscripciones en Genatur:\n676987031\ninfo@genatur.com\n www.genatur.com
URL:https://genatur.com/eventos/jerez-historico-centro-e-iglesias/
CATEGORIES:Senderismo y naturaleza
ATTACH;FMTTYPE=image/webp:https://genatur.com/wp-content/uploads/2025/10/4c735c84d7b6-jerez-de-la-frontera-plaza-asuncion-t.webp
END:VEVENT
END:VCALENDAR