BEGIN:VCALENDAR
VERSION:2.0
PRODID:-//It is born - ECPv6.10.0//NONSGML v1.0//EN
CALSCALE:GREGORIAN
METHOD:PUBLISH
X-ORIGINAL-URL:https://genatur.com
X-WR-CALDESC:Events for It is born
REFRESH-INTERVAL;VALUE=DURATION:PT1H
X-Robots-Tag:noindex
X-PUBLISHED-TTL:PT1H
BEGIN:VTIMEZONE
TZID:Europe/Madrid
BEGIN:DAYLIGHT
TZOFFSETFROM:+0100
TZOFFSETTO:+0200
TZNAME:CEST
DTSTART:20250330T010000
END:DAYLIGHT
BEGIN:STANDARD
TZOFFSETFROM:+0200
TZOFFSETTO:+0100
TZNAME:CET
DTSTART:20251026T010000
END:STANDARD
END:VTIMEZONE
BEGIN:VEVENT
DTSTART;TZID=Europe/Madrid:20250920T110000
DTEND;TZID=Europe/Madrid:20250920T130000
DTSTAMP:20260422T053701
CREATED:20230322T130406Z
LAST-MODIFIED:20250909T071822Z
UID:1094-1758366000-1758373200@genatur.com
SUMMARY:Visit the Cartuja Yeguada - Hierro del Bocado
DESCRIPTION:ATTENTION: PLACES NOT AVAILABLE ON THE WEBSITE. PARA RESERVAR\, CALL OR WRITE 676987031 \n\n\nEn los terrenos que ocupa la antigua dehesa de la ‘Fuente del Suero’\, adyacentes al Monasterio de La Cartuja de Jerez de la Frontera\, se contempla hoy\, As at the end of the 15th century- The stamp of the legendary horses of pure Spanish race.  There they graze and grow large purity specimens: los que conforman la Yeguada de la Cartuja – Hierro del Bocado. Disfruta del caballo Pura Raza Española estirpe Cartujana de una manera diferente y cercana\, donde además de un fascinante espectáculo ecuestre\, realizarás una visita guiada a nuestras instalaciones\, conociendo todos los detalles de este patrimonio genético único en el mundo\, The Cartujano horse. Would you like to meet how a Cartujano lives live? ¿quieres conocer su historia\, su cuido\, their training and many other curiosities? ¿quieres ver en un espectáculo ecuestre cómo nuestros caballos trabajan\, They run and interact? \n\n\nVive una #Experiencia Cartuja \nLocalización: Jerez de la  Frontera\nHorario de la actividad: 11:00 a 13:00\nPRECIO ESPECIAL CLIENTE GENATUR: 13\,50€ \nEntrdas en Genatur:\n676987031\ninfo@genatur.com\n www.genatur.com
URL:https://genatur.com/eventos/visita-la-yeguada-cartuja-hierro-del-bocado/
CATEGORIES:Culture: Archeology and History,Rutas culturales
ATTACH;FMTTYPE=image/jpeg:https://genatur.com/wp-content/uploads/2023/03/010-YCartuja_fotoDBliessen_04may22_jinetepatio11.jpg
END:VEVENT
BEGIN:VEVENT
DTSTART;TZID=Europe/Madrid:20250920T190000
DTEND;TZID=Europe/Madrid:20250920T230000
DTSTAMP:20260422T053702
CREATED:20240826T095143Z
LAST-MODIFIED:20250827T112544Z
UID:2728-1758394800-1758409200@genatur.com
SUMMARY:Listen to the bellowing of the deer - Montes Propios
DESCRIPTION:Este evento en el Parque Natural Los Alcornocales ofrece una experiencia inmersiva en la naturaleza\, focused on the observation of the Deer Berrea in the Montes Propios of Jerez. Guiados por un experto\, los participantes recorrerán el sendero “Cerro del Charco”\, a gently sloping path through a diverse and valuable ecosystem. Durante el recorrido\, se explorarán diferentes zonas del bosque\, observing traces of local fauna such as deer and roe deer. La actividad culmina con la escucha del bramido de los ciervos machos\, offering a unique connection to wildlife in their natural environment. \nLocalización: Los Montes Propios de Jerez.\nHorario de la actividad: 19:00 a 22:30\nDificultad: baja – 8 km round trip. Maximum and minimum level: 250-375\nPrecio: 15 € and under 8 a 12 years 7 € \nQUE INCLUYE:\n– Guía profesional de naturaleza explicando el recorrido\n– Material óptico: prismáticos y fichas explicativas\n– Gestión del permiso – EMEMSA\n– Seguro de r. civil y accidentes\n– Posibilidad de desplazamiento desde Jerez (limited places) \nQUE NO INCLUYE:\n– Avituallamiento \nTransporte con plazas limitadas desde Jerez de la Fronteras hasta el punto de encuentro\, contact the 676987031 to reserve. \nEsta actividad está organizada desde el tercer fin de semana de septiembre hasta el primero de octubre. Consult places without obligation. \nInscripciones en Genatur:\n676987031\ninfo@genatur.com\n www.genatur.com \n 
URL:https://genatur.com/eventos/escucha-de-la-berrea-del-ciervo-montes-propios-2/
CATEGORIES:Senderismo y naturaleza
ATTACH;FMTTYPE=image/jpeg:https://genatur.com/wp-content/uploads/2023/08/Ciervo.jpg
END:VEVENT
END:VCALENDAR