BEGIN:VCALENDAR
VERSION:2.0
PRODID:-//It is born - ECPv6.10.0//NONSGML v1.0//EN
CALSCALE:GREGORIAN
METHOD:PUBLISH
X-ORIGINAL-URL:https://genatur.com
X-WR-CALDESC:Events for It is born
REFRESH-INTERVAL;VALUE=DURATION:PT1H
X-Robots-Tag:noindex
X-PUBLISHED-TTL:PT1H
BEGIN:VTIMEZONE
TZID:Europe/Madrid
BEGIN:DAYLIGHT
TZOFFSETFROM:+0100
TZOFFSETTO:+0200
TZNAME:CEST
DTSTART:20250330T010000
END:DAYLIGHT
BEGIN:STANDARD
TZOFFSETFROM:+0200
TZOFFSETTO:+0100
TZNAME:CET
DTSTART:20251026T010000
END:STANDARD
END:VTIMEZONE
BEGIN:VEVENT
DTSTART;TZID=Europe/Madrid:20250914T190000
DTEND;TZID=Europe/Madrid:20250914T213000
DTSTAMP:20260422T053658
CREATED:20230817T074908Z
LAST-MODIFIED:20250827T092249Z
UID:1836-1757876400-1757885400@genatur.com
SUMMARY:Visita a la Viña Escuela Las Majadillas y cata con maridaje al atardecer
DESCRIPTION:Jerez de la Frontera es mundialmente conocido por su campiña\, it is the cradle of wine. Pasaremos la tarde-noche en la Viña Escuela Las Majadillas\, conociendo las labores de la campiña\, la influencia del clima\, la tierra\, la poda\, the vines... Then we will do a wine tasting. Mientras\, we will contemplate our wonderful sunset. \nLocalización: Jerez de la Frontera (Cadiz)\nHorario de la actividad: 19:00 a 21:30\nPrecio: 25€ \nQUE INCLUYE:\n– Guía profesional de enología\n– Material para la cata de vinos\n– Seguro de r. civil y accidentes \nQUE NO INCLUYE:\n– Desplazamiento hasta el punto de encuentro\n– Avituallamiento \nInscripciones en Genatur:\n📱676987031\n✉️info@genatur.com\n💻 www.genatur.com
URL:https://genatur.com/eventos/visita-a-la-vina-las-majadillas-y-cata-al-atardecer/
CATEGORIES:Enoturismo
ATTACH;FMTTYPE=image/jpeg:https://genatur.com/wp-content/uploads/2023/08/11811339_899210126817164_8309526322723221808_n.jpg
END:VEVENT
END:VCALENDAR