BEGIN:VCALENDAR
VERSION:2.0
PRODID:-//It is born - ECPv6.10.0//NONSGML v1.0//EN
CALSCALE:GREGORIAN
METHOD:PUBLISH
X-WR-CALNAME:Genatur
X-ORIGINAL-URL:https://genatur.com
X-WR-CALDESC:Events for It is born
REFRESH-INTERVAL;VALUE=DURATION:PT1H
X-Robots-Tag:noindex
X-PUBLISHED-TTL:PT1H
BEGIN:VTIMEZONE
TZID:Europe/Madrid
BEGIN:DAYLIGHT
TZOFFSETFROM:+0100
TZOFFSETTO:+0200
TZNAME:CEST
DTSTART:20250330T010000
END:DAYLIGHT
BEGIN:STANDARD
TZOFFSETFROM:+0200
TZOFFSETTO:+0100
TZNAME:CET
DTSTART:20251026T010000
END:STANDARD
END:VTIMEZONE
BEGIN:VEVENT
DTSTART;TZID=Europe/Madrid:20250831T123000
DTEND;TZID=Europe/Madrid:20250831T150000
DTSTAMP:20260422T021433
CREATED:20250820T102448Z
LAST-MODIFIED:20250827T070131Z
UID:3434-1756643400-1756652400@genatur.com
SUMMARY:Catamaran Experience with food and drink included - Desde el Puerto Comercial de Cádiz
DESCRIPTION:Completa excursión con baño\, giant mats and aquatic slide in the Bay of Cádiz. One hour stop to enjoy a refreshing bathroom in the sea.  We will navigate the maritime environment of the city of Cádiz to admire its defensive walls and its buildings. Bar on board. Relájese y disfrute a bordo de nuestro Catamarán Pura Vida\, Considered as the most modern and exclusive tourist catamaran in Spain. Whenever it is possible we will navigate sailing to feel authentic and pleasant navigation. On the way back we will encourage the journey with music. \nEste año como novedad la excursión durara 3 hours and includes a lunch on board composed of the first and second course plus dessert. We include 1 bebida \nMenú ADULTOS:  \n\nPrimer plato compuesto por Wrap de marisco\nSegundo plato compuesto por poke de pollo.\nPostre compuesto por bizcocho de zanahoria o brownie.\n\nMenú NIÑOS:  \n\nPrimer plato compuesto por pasta con tomate.\nSegundo plato compuesto por lagrimitas de pollo.\nPostre compuesto por brownie.\n\nNuestras excursiones se realizan en el Océano Atlántico por lo que aconsejamos traer algo de ropa de abrigo como sudadera\, Jacket or Rebeca. \nLocalización: oficina Pura Vida\, Cádiz\nHorario de la actividad: 12:30 a 15:30- 180 minutos\nPrecio: 54\,50€ and children between 4 y 12 años 33\,50€ – Reserva de 10\,9€ \nInscripciones e información en Genatur:\n📱676987031\n✉️info@genatur.com\n💻 www.genatur.com \n   \n 
URL:https://genatur.com/eventos/catamaran-experience-con-comida-y-bebida-incluidas-desde-el-puerto-comercial-de-cadiz-4/
CATEGORIES:Culture: Archeology and History,Genatur Viajes
ATTACH;FMTTYPE=image/jpeg:https://genatur.com/wp-content/uploads/2025/06/1660499392.jpg
END:VEVENT
END:VCALENDAR