BEGIN:VCALENDAR
VERSION:2.0
PRODID:-//It is born - ECPv6.10.0//NONSGML v1.0//EN
CALSCALE:GREGORIAN
METHOD:PUBLISH
X-ORIGINAL-URL:https://genatur.com
X-WR-CALDESC:Events for It is born
REFRESH-INTERVAL;VALUE=DURATION:PT1H
X-Robots-Tag:noindex
X-PUBLISHED-TTL:PT1H
BEGIN:VTIMEZONE
TZID:Europe/Madrid
BEGIN:DAYLIGHT
TZOFFSETFROM:+0100
TZOFFSETTO:+0200
TZNAME:CEST
DTSTART:20250330T010000
END:DAYLIGHT
BEGIN:STANDARD
TZOFFSETFROM:+0200
TZOFFSETTO:+0100
TZNAME:CET
DTSTART:20251026T010000
END:STANDARD
END:VTIMEZONE
BEGIN:VEVENT
DTSTART;TZID=Europe/Madrid:20250817T110000
DTEND;TZID=Europe/Madrid:20250817T110000
DTSTAMP:20260422T093654
CREATED:20250729T062418Z
LAST-MODIFIED:20250729T062418Z
UID:3427-1755428400-1755428400@genatur.com
SUMMARY:Cádiz trimilenaria - Desde el Puerto Comercial de Cádiz
DESCRIPTION:Exclusiva navegación en Catamarán por el entorno marítimo de la trimilenaria ciudad de Cádiz\, furrowing the walls of the city or navigating placidly through its bay. Estas rutas se realizarán en nuestro exclusivo Catamarán “Pura Vida”\, qué debido a sus grandes dimensiones y diseño\, make navigation much more pleasant than in a traditional ship. Relájese a bordo de nuestro Catamarán Pura Vida\, Considered as the most modern and exclusive tourist catamaran in Spain. Whenever it is possible we will navigate sailing to feel authentic and pleasant navigation. Zarparemos y en función de las condiciones del mar y de los vientos\, We will navigate north or southern course.  On both routes the outputs will be made from the commercial port of Cádiz.  \nSiempre intentaremos navegar hacia la zona norte de la bahía\, para contemplar desde nuestro catamarán lugares emblemáticos como las Torres Miradores de la Ciudad\, las Murallas de San Carlos\, San Felipe alto\, la Iglesia del Carmen\, el Baluarte de Candelaria\, el Castillo de San Sebastián\, Santa Catalina Castle and La Caleta Beach. \nEn el caso que la navegación no sea placentera\, navegaremos hacia la zona sur de la bahía\, pasando por el baluarte de San Antonio\, Matagorda strong and construction factories and naval repairs. We will pass under the bridge of the Constitution of 1812\, colloquially known as &quot;La Pepa&quot;. His spectacular design has made him the new emblem of the Bay of Cádiz. \nTodos nuestros recorridos van acompañados de locuciones en español\, inglés\, alemán\, french and Italian. \nNuestras excursiones se realizan en el Océano Atlántico por lo que aconsejamos traer algo de ropa de abrigo como sudadera\, Jacket or Rebeca. \nLocalización: oficina Pura Vida\, Cádiz\nHorario de la actividad: 11:00 a 12:15 – 75 minutos\nPrecio: 19€ and children between 4 y 12 años 12€ – Reserva de 3\,8€ \nInscripciones e información en Genatur:\n📱676987031\n✉️info@genatur.com\n💻 www.genatur.com \n   \n 
URL:https://genatur.com/eventos/cadiz-trimilenaria-desde-el-puerto-comercial-de-cadiz-3/
CATEGORIES:Culture: Archeology and History,Rutas culturales
ATTACH;FMTTYPE=image/jpeg:https://genatur.com/wp-content/uploads/2025/06/1721749946.jpg
END:VEVENT
END:VCALENDAR