BEGIN:VCALENDAR
VERSION:2.0
PRODID:-//It is born - ECPv6.10.0//NONSGML v1.0//EN
CALSCALE:GREGORIAN
METHOD:PUBLISH
X-ORIGINAL-URL:https://genatur.com
X-WR-CALDESC:Events for It is born
REFRESH-INTERVAL;VALUE=DURATION:PT1H
X-Robots-Tag:noindex
X-PUBLISHED-TTL:PT1H
BEGIN:VTIMEZONE
TZID:Europe/Madrid
BEGIN:DAYLIGHT
TZOFFSETFROM:+0100
TZOFFSETTO:+0200
TZNAME:CEST
DTSTART:20250330T010000
END:DAYLIGHT
BEGIN:STANDARD
TZOFFSETFROM:+0200
TZOFFSETTO:+0100
TZNAME:CET
DTSTART:20251026T010000
END:STANDARD
END:VTIMEZONE
BEGIN:VEVENT
DTSTART;TZID=Europe/Madrid:20250816T100000
DTEND;TZID=Europe/Madrid:20250816T133000
DTSTAMP:20260422T093652
CREATED:20230724T092742Z
LAST-MODIFIED:20250731T104331Z
UID:1708-1755338400-1755351000@genatur.com
SUMMARY:Punta del Boquerón
DESCRIPTION:La Punta del Boquerón\, declarada Monumento Natural\, La Batería Urrutia\, construcción defensiva del siglo XVIII\, el cercano Castillo de Sancti-Petri\, los Bunkers\, y los ecosistemas de este Parque Natural\, They are attractive enough to walk this path. Posee un gran valor ecológico\, for its native species. The dune systems and marshes that constitute the characteristic ecosystems of this area of ​​the Bahía de Cádiz Natural Park will be known.. Además se podrán observar gran variedad de aves\, como los flamencos\, correlimos\, avocetas\, chorlitejos… Y sobre todo\, la rapaz del medio acuático\, the osprey. \nLocalización: Parque Natural Bahía de Cádiz\, San Fernando (Cadiz)\nHorario de la actividad: 10:00 a 13:30\nRecorrido: 6 km round trip – Difficulty: Baja\nPrecio: 12 € and under 12 years 5 € \nQUE INCLUYE:\n– Guía profesional de naturaleza\n– Gestión del permiso\n– Seguro de r. civil y accidentes \nQUE NO INCLUYE:\n– Desplazamiento hasta el punto de encuentro\n– Avituallamiento \nInscripciones e información en Genatur:\n📱676987031\n✉️info@genatur.com\n💻 www.genatur.com \n   \n 
URL:https://genatur.com/eventos/taller-de-estrellas-y-sendero-punta-del-boqueron/
CATEGORIES:Culture: Archeology and History,Senderismo y naturaleza
ATTACH;FMTTYPE=image/jpeg:https://genatur.com/wp-content/uploads/2023/07/punta-boqueronsus.jpg
END:VEVENT
BEGIN:VEVENT
DTSTART;TZID=Europe/Madrid:20250816T123000
DTEND;TZID=Europe/Madrid:20250816T150000
DTSTAMP:20260422T093652
CREATED:20250729T061650Z
LAST-MODIFIED:20250729T061650Z
UID:3425-1755347400-1755356400@genatur.com
SUMMARY:Catamaran Experience with food and drink included - Desde el Puerto Comercial de Cádiz
DESCRIPTION:Completa excursión con baño\, giant mats and aquatic slide in the Bay of Cádiz. One hour stop to enjoy a refreshing bathroom in the sea.  We will navigate the maritime environment of the city of Cádiz to admire its defensive walls and its buildings. Bar on board. Relájese y disfrute a bordo de nuestro Catamarán Pura Vida\, Considered as the most modern and exclusive tourist catamaran in Spain. Whenever it is possible we will navigate sailing to feel authentic and pleasant navigation. On the way back we will encourage the journey with music. \nEste año como novedad la excursión durara 3 hours and includes a lunch on board composed of the first and second course plus dessert. We include 1 bebida \nMenú ADULTOS:  \n\nPrimer plato compuesto por Wrap de marisco\nSegundo plato compuesto por poke de pollo.\nPostre compuesto por bizcocho de zanahoria o brownie.\n\nMenú NIÑOS:  \n\nPrimer plato compuesto por pasta con tomate.\nSegundo plato compuesto por lagrimitas de pollo.\nPostre compuesto por brownie.\n\nNuestras excursiones se realizan en el Océano Atlántico por lo que aconsejamos traer algo de ropa de abrigo como sudadera\, Jacket or Rebeca. \nLocalización: oficina Pura Vida\, Cádiz\nHorario de la actividad: 12:30 a 15:30- 180 minutos\nPrecio: 54\,50€ and children between 4 y 12 años 33\,50€ – Reserva de 10\,9€ \nInscripciones e información en Genatur:\n📱676987031\n✉️info@genatur.com\n💻 www.genatur.com \n   \n 
URL:https://genatur.com/eventos/catamaran-experience-con-comida-y-bebida-incluidas-desde-el-puerto-comercial-de-cadiz-3/
CATEGORIES:Culture: Archeology and History,Genatur Viajes
ATTACH;FMTTYPE=image/jpeg:https://genatur.com/wp-content/uploads/2025/06/1660499392.jpg
END:VEVENT
END:VCALENDAR