BEGIN:VCALENDAR
VERSION:2.0
PRODID:-//It is born - ECPv6.10.0//NONSGML v1.0//EN
CALSCALE:GREGORIAN
METHOD:PUBLISH
X-ORIGINAL-URL:https://genatur.com
X-WR-CALDESC:Events for It is born
REFRESH-INTERVAL;VALUE=DURATION:PT1H
X-Robots-Tag:noindex
X-PUBLISHED-TTL:PT1H
BEGIN:VTIMEZONE
TZID:Europe/Madrid
BEGIN:DAYLIGHT
TZOFFSETFROM:+0100
TZOFFSETTO:+0200
TZNAME:CEST
DTSTART:20250330T010000
END:DAYLIGHT
BEGIN:STANDARD
TZOFFSETFROM:+0200
TZOFFSETTO:+0100
TZNAME:CET
DTSTART:20251026T010000
END:STANDARD
END:VTIMEZONE
BEGIN:VEVENT
DTSTART;TZID=Europe/Madrid:20250629T100000
DTEND;TZID=Europe/Madrid:20250629T120000
DTSTAMP:20260425T045045
CREATED:20240322T094405Z
LAST-MODIFIED:20250609T085852Z
UID:2556-1751191200-1751198400@genatur.com
SUMMARY:Paseo a Caballo por La Suara
DESCRIPTION:Would you like to live the experience of riding a horse through the countryside and enjoy this unforgettable moment?? No es necesaria experiencia previa\, You just need comfortable clothes and shoes and an appreciation for animals.. Comenzamos la ruta desde el Centro Hípico La Suara por los senderos y pinares e iremos con tranquilidad disfrutando del entorno natural\, accompanied by a rider-monitor. \nLocalización: La Suara\nHorario de la actividad: 10:00 a 12:00 –  Dificultad: Baja\nPrecio: 20 € \nQUE INCLUYE:\n– Guía- Monitor – Jinete\n– Casco de seguridad y gorro higiénico\n– Caballos dóciles\n– Seguro de r. civil y accidentes \nQUE NO INCLUYE:\n– Desplazamiento hasta el punto de encuentro\n– Avituallamiento \nInscripciones e información en Genatur:\n676987031\ninfo@genatur.com\n www.genatur.com
URL:https://genatur.com/eventos/paseo-a-caballo-por-la-suara-2/
CATEGORIES:Turismo activo
ATTACH;FMTTYPE=image/png:https://genatur.com/wp-content/uploads/2023/02/Paseo-Caballo-1.png
END:VEVENT
END:VCALENDAR