BEGIN:VCALENDAR
VERSION:2.0
PRODID:-//It is born - ECPv6.10.0//NONSGML v1.0//EN
CALSCALE:GREGORIAN
METHOD:PUBLISH
X-ORIGINAL-URL:https://genatur.com
X-WR-CALDESC:Events for It is born
REFRESH-INTERVAL;VALUE=DURATION:PT1H
X-Robots-Tag:noindex
X-PUBLISHED-TTL:PT1H
BEGIN:VTIMEZONE
TZID:Europe/Madrid
BEGIN:DAYLIGHT
TZOFFSETFROM:+0100
TZOFFSETTO:+0200
TZNAME:CEST
DTSTART:20240331T010000
END:DAYLIGHT
BEGIN:STANDARD
TZOFFSETFROM:+0200
TZOFFSETTO:+0100
TZNAME:CET
DTSTART:20241027T010000
END:STANDARD
END:VTIMEZONE
BEGIN:VEVENT
DTSTART;TZID=Europe/Madrid:20240831T100000
DTEND;TZID=Europe/Madrid:20240831T133000
DTSTAMP:20260424T145733
CREATED:20240731T074409Z
LAST-MODIFIED:20240731T074458Z
UID:2701-1725098400-1725111000@genatur.com
SUMMARY:Green Way - Chipiona
DESCRIPTION:Come and explore the wonderful Chipiona Greenway! Este sendero\, ideal para caminantes\, ciclistas y amantes de la naturaleza\, offers you an unparalleled experience in a privileged natural environment. Ubicado en la costa de la hermosa provincia de Cádiz\, This tour is perfect to disconnect and enjoy the tranquility and beauty of the Andalusian landscape. \nDisfruta de vistas espectaculares del litoral gaditano\, with golden beaches and crystal clear waters along the route. La Vía Verde está rodeada de una rica biodiversidad\, where you can observe migratory birds and native plants. \nLocalización: Chipiona (Cadiz)\nHorario de la actividad: 10:00 a 13:30\nRecorrido: 7\,5 km ida y vuelta\nDificultad: Baja\nPrecio: 12 € and under 12 years 5 € \nQUE INCLUYE:\n– Guía profesional de naturaleza\n– Seguro de r. civil y accidentes \nQUE NO INCLUYE:\n– Desplazamiento hasta el punto de encuentro\n– Avituallamiento \nInscripciones en Genatur:\n676987031\ninfo@genatur.com\n www.genatur.com
URL:https://genatur.com/eventos/via-verde-chipiona/
CATEGORIES:Senderismo y naturaleza
ATTACH;FMTTYPE=image/jpeg:https://genatur.com/wp-content/uploads/2024/07/1591185099715RUTA-LITORAL-VIA-VERDE-52570153796866996058.jpg
END:VEVENT
END:VCALENDAR