BEGIN:VCALENDAR
VERSION:2.0
PRODID:-//It is born - ECPv6.10.0//NONSGML v1.0//EN
CALSCALE:GREGORIAN
METHOD:PUBLISH
X-ORIGINAL-URL:https://genatur.com
X-WR-CALDESC:Events for It is born
REFRESH-INTERVAL;VALUE=DURATION:PT1H
X-Robots-Tag:noindex
X-PUBLISHED-TTL:PT1H
BEGIN:VTIMEZONE
TZID:Europe/Madrid
BEGIN:DAYLIGHT
TZOFFSETFROM:+0100
TZOFFSETTO:+0200
TZNAME:CEST
DTSTART:20240331T010000
END:DAYLIGHT
BEGIN:STANDARD
TZOFFSETFROM:+0200
TZOFFSETTO:+0100
TZNAME:CET
DTSTART:20241027T010000
END:STANDARD
END:VTIMEZONE
BEGIN:VEVENT
DTSTART;TZID=Europe/Madrid:20240818T100000
DTEND;TZID=Europe/Madrid:20240818T133000
DTSTAMP:20260424T145729
CREATED:20240731T064806Z
LAST-MODIFIED:20240731T064806Z
UID:2696-1723975200-1723987800@genatur.com
SUMMARY:Hozgarganta River - Jimena de la Frontera
DESCRIPTION:Discover the magic of the Hozgarganta River Trail! \nEmbárcate en una aventura única a través del impresionante Sendero del Río Hozgarganta\, a natural paradise located in the heart of the Alcornocales Natural Park. Este recorrido\, ideal para los amantes de la naturaleza y el senderismo\, te ofrece una experiencia inigualable entre frondosos bosques de alcornoques\, crystal clear waters and extraordinary biodiversity. \nSumérgete en un entorno natural virgen donde la flora y fauna se despliegan en todo su esplendor. Observe the wealth of native species and let the sound of the river accompany you every step. Explore historical remains such as old mills and medieval bridges that tell the history of the region. Every corner of the trail holds secrets from a fascinating past. \nHorario de la actividad: 10:00 a 13:30\nRecorrido: 7 km round trip – Difficulty: Baja\nPrecio: 12 € and under 12 años 5€ \nQUE INCLUYE:\n– Guía profesional de naturaleza\n– Seguro de r. civil y accidentes \nQUE NO INCLUYE:\n– Desplazamiento hasta el punto de encuentro\n– Avituallamiento \nInscripciones en Genatur:\n676987031\ninfo@genatur.com\n www.genatur.com
URL:https://genatur.com/eventos/rio-hozgarganta-jimena-de-la-frontera/
CATEGORIES:Senderismo y naturaleza
ATTACH;FMTTYPE=image/jpeg:https://genatur.com/wp-content/uploads/2024/07/Hozgarganta_2.jpg
END:VEVENT
END:VCALENDAR