BEGIN:VCALENDAR
VERSION:2.0
PRODID:-//It is born - ECPv6.10.0//NONSGML v1.0//EN
CALSCALE:GREGORIAN
METHOD:PUBLISH
X-ORIGINAL-URL:https://genatur.com
X-WR-CALDESC:Events for It is born
REFRESH-INTERVAL;VALUE=DURATION:PT1H
X-Robots-Tag:noindex
X-PUBLISHED-TTL:PT1H
BEGIN:VTIMEZONE
TZID:Europe/Madrid
BEGIN:DAYLIGHT
TZOFFSETFROM:+0100
TZOFFSETTO:+0200
TZNAME:CEST
DTSTART:20240331T010000
END:DAYLIGHT
BEGIN:STANDARD
TZOFFSETFROM:+0200
TZOFFSETTO:+0100
TZNAME:CET
DTSTART:20241027T010000
END:STANDARD
END:VTIMEZONE
BEGIN:VEVENT
DTSTART;TZID=Europe/Madrid:20240817T190000
DTEND;TZID=Europe/Madrid:20240817T223000
DTSTAMP:20260424T144128
CREATED:20240102T090338Z
LAST-MODIFIED:20240725T114430Z
UID:2359-1723921200-1723933800@genatur.com
SUMMARY:The Buddha - Mirador de la Peña
DESCRIPTION:La conocida como Ruta del Buda \,es uno de los cuatro senderos que pueden realizarse dentro del Parque Natural del Estrecho. Concretamente\, this road framed in the municipal area of ​​Tarifa. Es un sendero que discurre por la Sierra de Enmedio\, between San Bartolomé and Ojén and which coincides in its first section with the official La Peña trail that leads to a viewpoint with the same name. La Ruta del Buda se ha consolidado como uno de los caminos más atractivos para los senderistas por su facilidad y sus espectaculares vistas\, since you can see the entire North African coast (if visibility accompanies)\, la playa de Los Lances\, Valdevaqueros\, Tarifa and the island of Las Palomas. Another thing that makes it special is the cave in which you can see a Buddhist sanctuary with different peculiar elements and for which this path is named.. La pequeña cueva es un sitio colorido\, decorated with colorful pennants hung from the trunks of the pine trees that surround it. Dentro\, varias figuras hindúes presiden la hendidura rodeadas de diferentes objetos entre los que se encuentran piedras\, cans and even traps. \n\nLocalización: Tarifa\nHorario de la actividad: 19:00 a 22:30\nDificultad: Media\nPrecio: 12 € and under 12 years 5 € \nQUE INCLUYE:\n– Guía especializado en naturaleza\n– Seguro de r. civil y accidentes \nQUE NO INCLUYE:\n– Desplazamiento hasta el punto de encuentro.\n– Avituallamiento \nInscripciones en Genatur:\n676987031\ninfo@genatur.com\n www.genatur.com
URL:https://genatur.com/eventos/el-buda-mirador-de-la-pena/
CATEGORIES:Senderismo y naturaleza
ATTACH;FMTTYPE=image/jpeg:https://genatur.com/wp-content/uploads/2024/01/Cueva-Buda_1741636190_171184496_1200x1600.jpg
END:VEVENT
BEGIN:VEVENT
DTSTART;TZID=Europe/Madrid:20240817T190000
DTEND;TZID=Europe/Madrid:20240817T230000
DTSTAMP:20260424T144128
CREATED:20240527T110938Z
LAST-MODIFIED:20240729T113805Z
UID:1572-1723921200-1723935600@genatur.com
SUMMARY:Atardecer en La Algaida\, Los Toruños\, Río San Pedro y Salinas de los Desamparados
DESCRIPTION:RUTA DE LA ALGAIDA\, LOS TORUÑOS Y RÍO SAN PEDRO \nRecorreremos en primer lugar el sendero del Pinar de la Algaida\, realizando parada en las lagunas hipersalinas\, We will arrive at the Mirador Tower next to the San Pedro River where we will observe some birds. Then we will follow the path through the Salinas de los Desamparados. There we will watch the sunset. \nHorario de la actividad: 19:00 a 23:00\nRecorrido: 5\,5 km round trip – Difficulty: Baja\nPrecio: 12 € and under 12 años 5€ \nQUE INCLUYE:\n– Guía profesional de naturaleza\n– Seguro de r. civil y accidentes \nQUE NO INCLUYE:\n– Desplazamiento hasta el punto de encuentro\n– Avituallamiento \nInscripciones en Genatur:\n676987031\ninfo@genatur.com\n www.genatur.com
URL:https://genatur.com/eventos/atardecer-en-la-algaida-los-torunos-y-rio-san-pedro/
CATEGORIES:Senderismo y naturaleza
ATTACH;FMTTYPE=image/jpeg:https://genatur.com/wp-content/uploads/2024/05/37609795_2080317588706406_865178710322446336_n.jpg
END:VEVENT
END:VCALENDAR