BEGIN:VCALENDAR
VERSION:2.0
PRODID:-//It is born - ECPv6.10.0//NONSGML v1.0//EN
CALSCALE:GREGORIAN
METHOD:PUBLISH
X-WR-CALNAME:Genatur
X-ORIGINAL-URL:https://genatur.com
X-WR-CALDESC:Events for It is born
REFRESH-INTERVAL;VALUE=DURATION:PT1H
X-Robots-Tag:noindex
X-PUBLISHED-TTL:PT1H
BEGIN:VTIMEZONE
TZID:Europe/Madrid
BEGIN:DAYLIGHT
TZOFFSETFROM:+0100
TZOFFSETTO:+0200
TZNAME:CEST
DTSTART:20240331T010000
END:DAYLIGHT
BEGIN:STANDARD
TZOFFSETFROM:+0200
TZOFFSETTO:+0100
TZNAME:CET
DTSTART:20241027T010000
END:STANDARD
END:VTIMEZONE
BEGIN:VEVENT
DTSTART;TZID=Europe/Madrid:20240323T100000
DTEND;TZID=Europe/Madrid:20240323T170000
DTSTAMP:20260424T113940
CREATED:20240318T124542Z
LAST-MODIFIED:20240318T124542Z
UID:2527-1711188000-1711213200@genatur.com
SUMMARY:Tunel de Coargazal y Arco Gótico
DESCRIPTION:La excursión empieza en el Puerto del Boyar\, y discurre por la Sierra del Endrinal\, in the heart of the Sierra de Grazalema Natural Park. It is a linear route that enters the beautiful limestone enclave of the Betic System in the province of Cádiz. El recorrido y entorno por el que caminamos resulta muy gratificante\, no solo por las vistas que vamos contemplando\, sino por las curiosas formaciones rocosas que nos encontramos\, along with magical corners that contain true charm. Places full of lapiaces and we imagine what the place would be like hundreds of millions of years ago when the limestone bottoms of the Tethys Sea were and how they rose with the collision of the European and African tectonic plates. El mejor momento de nuestra excursión es la llegada al Arco Gótico\, una formación caliza de gran belleza\, fisurada\, forming a puzzle closing the arch. La belleza de esta formación natural\, alien to any human construction is incredible. Perhaps humans were inspired by it to create the Arab semicircular arch that revolutionized Christian architecture, creating the Gothic architectural style.. \nLocalización: Parque Natural de la Sierra de Grazalema\nHorario de la actividad: 10:00 a 17:00\nDificultad: Media Alta – 7 km\nPrecio: 15€ and under 12 años 9€ \nQUE INCLUYE:\n– Guía especializado en naturaleza\n– Seguro de r. civil y accidentes \nQUE NO INCLUYE:\n– Desplazamiento hasta el punto de encuentro.\n– Avituallamiento \nInscripciones en Genatur:\n676987031\ninfo@genatur.com\n www.genatur.com \n   \n 
URL:https://genatur.com/eventos/tunel-de-coargazal-y-arco-gotico/
CATEGORIES:cultural routes,Senderismo y naturaleza
ATTACH;FMTTYPE=image/jpeg:https://genatur.com/wp-content/uploads/2024/03/arco-gotico-300x200-1.jpg
END:VEVENT
END:VCALENDAR